BEGIN:VCALENDAR
VERSION:2.0
PRODID:-//Richmond Primary School - ECPv6.15.18//NONSGML v1.0//EN
CALSCALE:GREGORIAN
METHOD:PUBLISH
X-ORIGINAL-URL:https://richmondps.wa.edu.au
X-WR-CALDESC:Events for Richmond Primary School
REFRESH-INTERVAL;VALUE=DURATION:PT1H
X-Robots-Tag:noindex
X-PUBLISHED-TTL:PT1H
BEGIN:VTIMEZONE
TZID:Australia/Perth
BEGIN:STANDARD
TZOFFSETFROM:+0800
TZOFFSETTO:+0800
TZNAME:AWST
DTSTART:20240101T000000
END:STANDARD
END:VTIMEZONE
BEGIN:VEVENT
DTSTART;TZID=Australia/Perth:20251212T080000
DTEND;TZID=Australia/Perth:20251212T084000
DTSTAMP:20260420T070024
CREATED:20251001T071457Z
LAST-MODIFIED:20251001T071457Z
UID:10256-1765526400-1765528800@richmondps.wa.edu.au
SUMMARY:Recorder L1 Assistance
DESCRIPTION:
URL:https://richmondps.wa.edu.au/event/recorder-l1-assistance-8/
CATEGORIES:Music
END:VEVENT
END:VCALENDAR