BEGIN:VCALENDAR
VERSION:2.0
PRODID:-//Richmond Primary School - ECPv6.15.18//NONSGML v1.0//EN
CALSCALE:GREGORIAN
METHOD:PUBLISH
X-WR-CALNAME:Richmond Primary School
X-ORIGINAL-URL:https://richmondps.wa.edu.au
X-WR-CALDESC:Events for Richmond Primary School
REFRESH-INTERVAL;VALUE=DURATION:PT1H
X-Robots-Tag:noindex
X-PUBLISHED-TTL:PT1H
BEGIN:VTIMEZONE
TZID:Australia/Perth
BEGIN:STANDARD
TZOFFSETFROM:+0800
TZOFFSETTO:+0800
TZNAME:AWST
DTSTART:20240101T000000
END:STANDARD
END:VTIMEZONE
BEGIN:VEVENT
DTSTART;TZID=Australia/Perth:20251027T083000
DTEND;TZID=Australia/Perth:20251029T084000
DTSTAMP:20260422T092807
CREATED:20251003T035317Z
LAST-MODIFIED:20251003T035317Z
UID:10326-1761553800-1761727200@richmondps.wa.edu.au
SUMMARY:Library Open
DESCRIPTION:Families welcome 8.30 – 8.40am
URL:https://richmondps.wa.edu.au/event/library-open-7/
END:VEVENT
BEGIN:VEVENT
DTSTART;VALUE=DATE:20251028
DTEND;VALUE=DATE:20251029
DTSTAMP:20260422T092807
CREATED:20251001T061255Z
LAST-MODIFIED:20251001T061255Z
UID:10152-1761609600-1761695999@richmondps.wa.edu.au
SUMMARY:Kindy Music Circle KA KC
DESCRIPTION:
URL:https://richmondps.wa.edu.au/event/kindy-music-circle-ka-kc-10/
CATEGORIES:Incursion
END:VEVENT
BEGIN:VEVENT
DTSTART;TZID=Australia/Perth:20251028T080000
DTEND;TZID=Australia/Perth:20251028T083500
DTSTAMP:20260422T092807
CREATED:20251001T072137Z
LAST-MODIFIED:20251001T072137Z
UID:10264-1761638400-1761640500@richmondps.wa.edu.au
SUMMARY:Student Parliament Roundtable Year 6
DESCRIPTION:Student Parliament Roundtable Year 6 in Room 14
URL:https://richmondps.wa.edu.au/event/student-parliament-roundtable-year-6-3/
CATEGORIES:Student Event
END:VEVENT
BEGIN:VEVENT
DTSTART;TZID=Australia/Perth:20251028T081000
DTEND;TZID=Australia/Perth:20251028T083000
DTSTAMP:20260422T092807
CREATED:20251003T032507Z
LAST-MODIFIED:20251003T032507Z
UID:10286-1761639000-1761640200@richmondps.wa.edu.au
SUMMARY:Marathon Club
DESCRIPTION:Marathon Club for Years 3 – 6 on the oval. Sign up through Connect.
URL:https://richmondps.wa.edu.au/event/marathon-club-8/
CATEGORIES:School Sports
END:VEVENT
BEGIN:VEVENT
DTSTART;TZID=Australia/Perth:20251029T080000
DTEND;TZID=Australia/Perth:20251029T084000
DTSTAMP:20260422T092807
CREATED:20251001T070422Z
LAST-MODIFIED:20251001T070422Z
UID:10227-1761724800-1761727200@richmondps.wa.edu.au
SUMMARY:Choir
DESCRIPTION:
URL:https://richmondps.wa.edu.au/event/choir-7/
CATEGORIES:Music
END:VEVENT
BEGIN:VEVENT
DTSTART;TZID=Australia/Perth:20251029T093000
DTEND;TZID=Australia/Perth:20251029T103000
DTSTAMP:20260422T092807
CREATED:20251023T035723Z
LAST-MODIFIED:20251023T035723Z
UID:10356-1761730200-1761733800@richmondps.wa.edu.au
SUMMARY:School Tour
DESCRIPTION:
URL:https://richmondps.wa.edu.au/event/school-tour-7/
END:VEVENT
BEGIN:VEVENT
DTSTART;VALUE=DATE:20251030
DTEND;VALUE=DATE:20251031
DTSTAMP:20260422T092807
CREATED:20251001T063200Z
LAST-MODIFIED:20251001T063413Z
UID:10174-1761782400-1761868799@richmondps.wa.edu.au
SUMMARY:Bike Ed Yr 4
DESCRIPTION:
URL:https://richmondps.wa.edu.au/event/bike-ed-yr-4-2/
CATEGORIES:Incursion
END:VEVENT
BEGIN:VEVENT
DTSTART;TZID=Australia/Perth:20251030T081000
DTEND;TZID=Australia/Perth:20251030T083000
DTSTAMP:20260422T092807
CREATED:20251003T033451Z
LAST-MODIFIED:20251003T033451Z
UID:10306-1761811800-1761813000@richmondps.wa.edu.au
SUMMARY:Just for Run
DESCRIPTION:Just for Run Club focuses on fun and fitness on the oval. Sign up though Connect.
URL:https://richmondps.wa.edu.au/event/just-for-run-4/
CATEGORIES:School Sports
END:VEVENT
BEGIN:VEVENT
DTSTART;TZID=Australia/Perth:20251030T150000
DTEND;TZID=Australia/Perth:20251030T160000
DTSTAMP:20260422T092807
CREATED:20251023T062522Z
LAST-MODIFIED:20251027T020738Z
UID:10360-1761836400-1761840000@richmondps.wa.edu.au
SUMMARY:Cards & Flowers at Library for World Teachers Day
DESCRIPTION:
URL:https://richmondps.wa.edu.au/event/cards-flowers-at-library-for-world-teachers-day/
CATEGORIES:P&C Events
END:VEVENT
BEGIN:VEVENT
DTSTART;VALUE=DATE:20251031
DTEND;VALUE=DATE:20251101
DTSTAMP:20260422T092807
CREATED:20250820T073651Z
LAST-MODIFIED:20251001T064118Z
UID:10079-1761868800-1761955199@richmondps.wa.edu.au
SUMMARY:World Teachers Day
DESCRIPTION:
URL:https://richmondps.wa.edu.au/event/world-teachers-day/
END:VEVENT
BEGIN:VEVENT
DTSTART;VALUE=DATE:20251031
DTEND;VALUE=DATE:20251101
DTSTAMP:20260422T092807
CREATED:20251001T063817Z
LAST-MODIFIED:20251001T063817Z
UID:10188-1761868800-1761955199@richmondps.wa.edu.au
SUMMARY:Kindy Music Circle KB
DESCRIPTION:
URL:https://richmondps.wa.edu.au/event/kindy-music-circle-kb-10/
CATEGORIES:Incursion
END:VEVENT
BEGIN:VEVENT
DTSTART;TZID=Australia/Perth:20251031T080000
DTEND;TZID=Australia/Perth:20251031T084000
DTSTAMP:20260422T092807
CREATED:20251001T071251Z
LAST-MODIFIED:20251001T071251Z
UID:10246-1761897600-1761900000@richmondps.wa.edu.au
SUMMARY:Recorder L1 Assistance
DESCRIPTION:
URL:https://richmondps.wa.edu.au/event/recorder-l1-assistance-3/
CATEGORIES:Music
END:VEVENT
BEGIN:VEVENT
DTSTART;TZID=Australia/Perth:20251031T100000
DTEND;TZID=Australia/Perth:20251031T103000
DTSTAMP:20260422T092807
CREATED:20251023T062714Z
LAST-MODIFIED:20251023T062714Z
UID:10362-1761904800-1761906600@richmondps.wa.edu.au
SUMMARY:Staff Morning Tea for World Teachers Day
DESCRIPTION:Bring in your donations to the staff room.
URL:https://richmondps.wa.edu.au/event/staff-morning-tea-for-world-teachers-day/
END:VEVENT
BEGIN:VEVENT
DTSTART;TZID=Australia/Perth:20251103T080000
DTEND;TZID=Australia/Perth:20251103T084000
DTSTAMP:20260422T092807
CREATED:20251001T065241Z
LAST-MODIFIED:20251001T065857Z
UID:10207-1762156800-1762159200@richmondps.wa.edu.au
SUMMARY:Recorder Ensemble
DESCRIPTION:
URL:https://richmondps.wa.edu.au/event/recorder-ensemble-8/
CATEGORIES:Music
END:VEVENT
BEGIN:VEVENT
DTSTART;TZID=Australia/Perth:20251103T083000
DTEND;TZID=Australia/Perth:20251105T084000
DTSTAMP:20260422T092807
CREATED:20251003T035352Z
LAST-MODIFIED:20251003T035352Z
UID:10328-1762158600-1762332000@richmondps.wa.edu.au
SUMMARY:Library Open
DESCRIPTION:Families welcome 8.30 – 8.40am
URL:https://richmondps.wa.edu.au/event/library-open-8/
END:VEVENT
BEGIN:VEVENT
DTSTART;VALUE=DATE:20251104
DTEND;VALUE=DATE:20251105
DTSTAMP:20260422T092807
CREATED:20251001T061317Z
LAST-MODIFIED:20251001T061317Z
UID:10154-1762214400-1762300799@richmondps.wa.edu.au
SUMMARY:Kindy Music Circle KA KC
DESCRIPTION:
URL:https://richmondps.wa.edu.au/event/kindy-music-circle-ka-kc-11/
CATEGORIES:Incursion
END:VEVENT
BEGIN:VEVENT
DTSTART;VALUE=DATE:20251104
DTEND;VALUE=DATE:20251105
DTSTAMP:20260422T092807
CREATED:20251001T064319Z
LAST-MODIFIED:20251021T074820Z
UID:10198-1762214400-1762300799@richmondps.wa.edu.au
SUMMARY:MDISSA Interschool Athletics
DESCRIPTION:
URL:https://richmondps.wa.edu.au/event/interschool-athletics-2/
CATEGORIES:Excursion,School Sports
END:VEVENT
BEGIN:VEVENT
DTSTART;TZID=Australia/Perth:20251104T080000
DTEND;TZID=Australia/Perth:20251104T083500
DTSTAMP:20260422T092807
CREATED:20251001T072238Z
LAST-MODIFIED:20251001T072238Z
UID:10266-1762243200-1762245300@richmondps.wa.edu.au
SUMMARY:Student Parliament Roundtable Year 6
DESCRIPTION:Student Parliament Roundtable Year 6 in Room 14
URL:https://richmondps.wa.edu.au/event/student-parliament-roundtable-year-6-4/
CATEGORIES:Student Event
END:VEVENT
BEGIN:VEVENT
DTSTART;TZID=Australia/Perth:20251104T081000
DTEND;TZID=Australia/Perth:20251104T083000
DTSTAMP:20260422T092807
CREATED:20251003T032542Z
LAST-MODIFIED:20251003T032542Z
UID:10288-1762243800-1762245000@richmondps.wa.edu.au
SUMMARY:Marathon Club
DESCRIPTION:Marathon Club for Years 3 – 6 on the oval. Sign up through Connect.
URL:https://richmondps.wa.edu.au/event/marathon-club-9/
CATEGORIES:School Sports
END:VEVENT
BEGIN:VEVENT
DTSTART;TZID=Australia/Perth:20251104T190000
DTEND;TZID=Australia/Perth:20251104T210000
DTSTAMP:20260422T092807
CREATED:20250820T073919Z
LAST-MODIFIED:20250820T074255Z
UID:10083-1762282800-1762290000@richmondps.wa.edu.au
SUMMARY:Board Meeting
DESCRIPTION:Board Meeting will be in the library 7pm.
URL:https://richmondps.wa.edu.au/event/board-meeting-2/
END:VEVENT
BEGIN:VEVENT
DTSTART;TZID=Australia/Perth:20251105T080000
DTEND;TZID=Australia/Perth:20251105T084000
DTSTAMP:20260422T092807
CREATED:20251001T070450Z
LAST-MODIFIED:20251001T070450Z
UID:10229-1762329600-1762332000@richmondps.wa.edu.au
SUMMARY:Choir
DESCRIPTION:
URL:https://richmondps.wa.edu.au/event/choir-8/
CATEGORIES:Music
END:VEVENT
BEGIN:VEVENT
DTSTART;VALUE=DATE:20251106
DTEND;VALUE=DATE:20251107
DTSTAMP:20260422T092807
CREATED:20251001T063437Z
LAST-MODIFIED:20251001T063437Z
UID:10176-1762387200-1762473599@richmondps.wa.edu.au
SUMMARY:Bike Ed Yr 4
DESCRIPTION:
URL:https://richmondps.wa.edu.au/event/bike-ed-yr-4-3/
CATEGORIES:Incursion
END:VEVENT
BEGIN:VEVENT
DTSTART;TZID=Australia/Perth:20251106T081000
DTEND;TZID=Australia/Perth:20251106T083000
DTSTAMP:20260422T092807
CREATED:20251003T033606Z
LAST-MODIFIED:20251003T033606Z
UID:10308-1762416600-1762417800@richmondps.wa.edu.au
SUMMARY:Just for Run
DESCRIPTION:Just for Run Club focuses on fun and fitness on the oval. Sign up though Connect.
URL:https://richmondps.wa.edu.au/event/just-for-run-5/
CATEGORIES:School Sports
END:VEVENT
BEGIN:VEVENT
DTSTART;VALUE=DATE:20251107
DTEND;VALUE=DATE:20251108
DTSTAMP:20260422T092807
CREATED:20251001T063839Z
LAST-MODIFIED:20251001T063839Z
UID:10190-1762473600-1762559999@richmondps.wa.edu.au
SUMMARY:Kindy Music Circle KB
DESCRIPTION:
URL:https://richmondps.wa.edu.au/event/kindy-music-circle-kb-11/
CATEGORIES:Incursion
END:VEVENT
BEGIN:VEVENT
DTSTART;TZID=Australia/Perth:20251107T080000
DTEND;TZID=Australia/Perth:20251107T084000
DTSTAMP:20260422T092807
CREATED:20251001T071318Z
LAST-MODIFIED:20251001T071318Z
UID:10248-1762502400-1762504800@richmondps.wa.edu.au
SUMMARY:Recorder L1 Assistance
DESCRIPTION:
URL:https://richmondps.wa.edu.au/event/recorder-l1-assistance-4/
CATEGORIES:Music
END:VEVENT
BEGIN:VEVENT
DTSTART;TZID=Australia/Perth:20251110T080000
DTEND;TZID=Australia/Perth:20251110T084000
DTSTAMP:20260422T092807
CREATED:20251001T065314Z
LAST-MODIFIED:20251001T065824Z
UID:10209-1762761600-1762764000@richmondps.wa.edu.au
SUMMARY:Recorder Ensemble
DESCRIPTION:
URL:https://richmondps.wa.edu.au/event/recorder-ensemble-9/
CATEGORIES:Music
END:VEVENT
BEGIN:VEVENT
DTSTART;TZID=Australia/Perth:20251110T083000
DTEND;TZID=Australia/Perth:20251112T084000
DTSTAMP:20260422T092807
CREATED:20251003T035429Z
LAST-MODIFIED:20251003T035429Z
UID:10330-1762763400-1762936800@richmondps.wa.edu.au
SUMMARY:Library Open
DESCRIPTION:Families welcome 8.30 – 8.40am
URL:https://richmondps.wa.edu.au/event/library-open-9/
END:VEVENT
BEGIN:VEVENT
DTSTART;VALUE=DATE:20251111
DTEND;VALUE=DATE:20251112
DTSTAMP:20260422T092807
CREATED:20251001T061334Z
LAST-MODIFIED:20251001T061334Z
UID:10156-1762819200-1762905599@richmondps.wa.edu.au
SUMMARY:Kindy Music Circle KA KC
DESCRIPTION:
URL:https://richmondps.wa.edu.au/event/kindy-music-circle-ka-kc-12/
CATEGORIES:Incursion
END:VEVENT
BEGIN:VEVENT
DTSTART;TZID=Australia/Perth:20251111T080000
DTEND;TZID=Australia/Perth:20251111T083500
DTSTAMP:20260422T092807
CREATED:20251001T072311Z
LAST-MODIFIED:20251001T072311Z
UID:10268-1762848000-1762850100@richmondps.wa.edu.au
SUMMARY:Student Parliament Roundtable Year 6
DESCRIPTION:Student Parliament Roundtable Year 6 in Room14
URL:https://richmondps.wa.edu.au/event/student-parliament-roundtable-year-6-5/
CATEGORIES:Student Event
END:VEVENT
BEGIN:VEVENT
DTSTART;TZID=Australia/Perth:20251111T081000
DTEND;TZID=Australia/Perth:20251111T083000
DTSTAMP:20260422T092807
CREATED:20251003T032615Z
LAST-MODIFIED:20251003T032615Z
UID:10290-1762848600-1762849800@richmondps.wa.edu.au
SUMMARY:Marathon Club
DESCRIPTION:Marathon Club for Years 3 – 6 on the oval. Sign up through Connect.
URL:https://richmondps.wa.edu.au/event/marathon-club-10/
CATEGORIES:School Sports
END:VEVENT
END:VCALENDAR