BEGIN:VCALENDAR
VERSION:2.0
PRODID:-//Richmond Primary School - ECPv6.15.18//NONSGML v1.0//EN
CALSCALE:GREGORIAN
METHOD:PUBLISH
X-WR-CALNAME:Richmond Primary School
X-ORIGINAL-URL:https://richmondps.wa.edu.au
X-WR-CALDESC:Events for Richmond Primary School
REFRESH-INTERVAL;VALUE=DURATION:PT1H
X-Robots-Tag:noindex
X-PUBLISHED-TTL:PT1H
BEGIN:VTIMEZONE
TZID:Australia/Perth
BEGIN:STANDARD
TZOFFSETFROM:+0800
TZOFFSETTO:+0800
TZNAME:AWST
DTSTART:20240101T000000
END:STANDARD
END:VTIMEZONE
BEGIN:VEVENT
DTSTART;VALUE=DATE:20251120
DTEND;VALUE=DATE:20251121
DTSTAMP:20260423T064308
CREATED:20251001T063517Z
LAST-MODIFIED:20251001T063517Z
UID:10180-1763596800-1763683199@richmondps.wa.edu.au
SUMMARY:Bike Ed Yr 4
DESCRIPTION:
URL:https://richmondps.wa.edu.au/event/bike-ed-yr-4-5/
CATEGORIES:Incursion
END:VEVENT
BEGIN:VEVENT
DTSTART;TZID=Australia/Perth:20251120T081000
DTEND;TZID=Australia/Perth:20251120T083000
DTSTAMP:20260423T064308
CREATED:20251003T033733Z
LAST-MODIFIED:20251003T033733Z
UID:10312-1763626200-1763627400@richmondps.wa.edu.au
SUMMARY:Just for Run
DESCRIPTION:Just for Run Club focuses on fun and fitness on the oval. Sign up though Connect.
URL:https://richmondps.wa.edu.au/event/just-for-run-7/
CATEGORIES:School Sports
END:VEVENT
BEGIN:VEVENT
DTSTART;TZID=Australia/Perth:20251120T090000
DTEND;TZID=Australia/Perth:20251120T093000
DTSTAMP:20260423T064308
CREATED:20251024T043100Z
LAST-MODIFIED:20251024T043100Z
UID:10368-1763629200-1763631000@richmondps.wa.edu.au
SUMMARY:Classroom Rep Meeting
DESCRIPTION:Please join us in the Staff Room
URL:https://richmondps.wa.edu.au/event/classroom-rep-meeting-2/
END:VEVENT
BEGIN:VEVENT
DTSTART;VALUE=DATE:20251121
DTEND;VALUE=DATE:20251122
DTSTAMP:20260423T064308
CREATED:20251001T063933Z
LAST-MODIFIED:20251001T063933Z
UID:10194-1763683200-1763769599@richmondps.wa.edu.au
SUMMARY:Kindy Music Circle KB
DESCRIPTION:
URL:https://richmondps.wa.edu.au/event/kindy-music-circle-kb-13/
CATEGORIES:Incursion
END:VEVENT
BEGIN:VEVENT
DTSTART;TZID=Australia/Perth:20251121T080000
DTEND;TZID=Australia/Perth:20251121T084000
DTSTAMP:20260423T064308
CREATED:20251001T071342Z
LAST-MODIFIED:20251001T071342Z
UID:10250-1763712000-1763714400@richmondps.wa.edu.au
SUMMARY:Recorder L1 Assistance
DESCRIPTION:
URL:https://richmondps.wa.edu.au/event/recorder-l1-assistance-5/
CATEGORIES:Music
END:VEVENT
BEGIN:VEVENT
DTSTART;TZID=Australia/Perth:20251124T080000
DTEND;TZID=Australia/Perth:20251124T084000
DTSTAMP:20260423T064308
CREATED:20251001T065418Z
LAST-MODIFIED:20251001T065418Z
UID:10213-1763971200-1763973600@richmondps.wa.edu.au
SUMMARY:Recorder Ensemble
DESCRIPTION:
URL:https://richmondps.wa.edu.au/event/recorder-ensemble-11/
CATEGORIES:Music
END:VEVENT
BEGIN:VEVENT
DTSTART;TZID=Australia/Perth:20251124T083000
DTEND;TZID=Australia/Perth:20251126T084000
DTSTAMP:20260423T064308
CREATED:20251003T035533Z
LAST-MODIFIED:20251003T035533Z
UID:10334-1763973000-1764146400@richmondps.wa.edu.au
SUMMARY:Library Open
DESCRIPTION:Families welcome 8.30 – 8.40am
URL:https://richmondps.wa.edu.au/event/library-open-11/
END:VEVENT
BEGIN:VEVENT
DTSTART;VALUE=DATE:20251125
DTEND;VALUE=DATE:20251126
DTSTAMP:20260423T064308
CREATED:20251001T061418Z
LAST-MODIFIED:20251001T061418Z
UID:10160-1764028800-1764115199@richmondps.wa.edu.au
SUMMARY:Kindy Music Circle KA KC
DESCRIPTION:
URL:https://richmondps.wa.edu.au/event/kindy-music-circle-ka-kc-14/
CATEGORIES:Incursion
END:VEVENT
BEGIN:VEVENT
DTSTART;TZID=Australia/Perth:20251125T080000
DTEND;TZID=Australia/Perth:20251125T083500
DTSTAMP:20260423T064308
CREATED:20251001T072428Z
LAST-MODIFIED:20251001T072428Z
UID:10272-1764057600-1764059700@richmondps.wa.edu.au
SUMMARY:Student Parliament Roundtable Year 6
DESCRIPTION:Student Parliament Roundtable Year 6 in Room 14
URL:https://richmondps.wa.edu.au/event/student-parliament-roundtable-year-6-7/
CATEGORIES:Student Event
END:VEVENT
BEGIN:VEVENT
DTSTART;TZID=Australia/Perth:20251125T081000
DTEND;TZID=Australia/Perth:20251125T083000
DTSTAMP:20260423T064308
CREATED:20251003T032733Z
LAST-MODIFIED:20251003T032733Z
UID:10294-1764058200-1764059400@richmondps.wa.edu.au
SUMMARY:Marathon Club
DESCRIPTION:Marathon Club for Years 3 – 6 on the oval. Sign up through Connect.
URL:https://richmondps.wa.edu.au/event/marathon-club-12/
CATEGORIES:School Sports
END:VEVENT
BEGIN:VEVENT
DTSTART;TZID=Australia/Perth:20251125T143000
DTEND;TZID=Australia/Perth:20251125T151500
DTSTAMP:20260423T064308
CREATED:20251029T033505Z
LAST-MODIFIED:20251029T033505Z
UID:10380-1764081000-1764083700@richmondps.wa.edu.au
SUMMARY:Second Hand Uniform Shop Open
DESCRIPTION:At the P & C shed on the oval
URL:https://richmondps.wa.edu.au/event/second-hand-uniform-shop-open-12/
CATEGORIES:P&C Events
END:VEVENT
BEGIN:VEVENT
DTSTART;TZID=Australia/Perth:20251126T080000
DTEND;TZID=Australia/Perth:20251126T084000
DTSTAMP:20260423T064308
CREATED:20251001T070906Z
LAST-MODIFIED:20251001T070906Z
UID:10236-1764144000-1764146400@richmondps.wa.edu.au
SUMMARY:Choir
DESCRIPTION:
URL:https://richmondps.wa.edu.au/event/choir-11/
CATEGORIES:Music
END:VEVENT
BEGIN:VEVENT
DTSTART;TZID=Australia/Perth:20251126T093000
DTEND;TZID=Australia/Perth:20251126T103000
DTSTAMP:20260423T064308
CREATED:20251023T035758Z
LAST-MODIFIED:20251023T035758Z
UID:10358-1764149400-1764153000@richmondps.wa.edu.au
SUMMARY:School Tour
DESCRIPTION:
URL:https://richmondps.wa.edu.au/event/school-tour-8/
END:VEVENT
BEGIN:VEVENT
DTSTART;TZID=Australia/Perth:20251127T081000
DTEND;TZID=Australia/Perth:20251127T083000
DTSTAMP:20260423T064308
CREATED:20251003T033819Z
LAST-MODIFIED:20251003T033819Z
UID:10314-1764231000-1764232200@richmondps.wa.edu.au
SUMMARY:Just for Run
DESCRIPTION:Just for Run Club focuses on fun and fitness on the oval. Sign up though Connect.
URL:https://richmondps.wa.edu.au/event/just-for-run-8/
CATEGORIES:School Sports
END:VEVENT
BEGIN:VEVENT
DTSTART;VALUE=DATE:20251128
DTEND;VALUE=DATE:20251129
DTSTAMP:20260423T064308
CREATED:20250820T074755Z
LAST-MODIFIED:20250820T074755Z
UID:10093-1764288000-1764374399@richmondps.wa.edu.au
SUMMARY:Tennis Years 3 & 4
DESCRIPTION:
URL:https://richmondps.wa.edu.au/event/tennis-years-3-4/
CATEGORIES:School Sports
END:VEVENT
BEGIN:VEVENT
DTSTART;VALUE=DATE:20251128
DTEND;VALUE=DATE:20251129
DTSTAMP:20260423T064308
CREATED:20251001T064005Z
LAST-MODIFIED:20251001T064005Z
UID:10196-1764288000-1764374399@richmondps.wa.edu.au
SUMMARY:Kindy Music Circle KB
DESCRIPTION:
URL:https://richmondps.wa.edu.au/event/kindy-music-circle-kb-14/
CATEGORIES:Incursion
END:VEVENT
BEGIN:VEVENT
DTSTART;TZID=Australia/Perth:20251128T080000
DTEND;TZID=Australia/Perth:20251128T084000
DTSTAMP:20260423T064308
CREATED:20251001T071405Z
LAST-MODIFIED:20251001T071405Z
UID:10252-1764316800-1764319200@richmondps.wa.edu.au
SUMMARY:Recorder L1 Assistance
DESCRIPTION:
URL:https://richmondps.wa.edu.au/event/recorder-l1-assistance-6/
CATEGORIES:Music
END:VEVENT
BEGIN:VEVENT
DTSTART;TZID=Australia/Perth:20251201T080000
DTEND;TZID=Australia/Perth:20251201T084000
DTSTAMP:20260423T064308
CREATED:20251001T070007Z
LAST-MODIFIED:20251001T070007Z
UID:10215-1764576000-1764578400@richmondps.wa.edu.au
SUMMARY:Recorder Ensemble
DESCRIPTION:
URL:https://richmondps.wa.edu.au/event/recorder-ensemble-12/
CATEGORIES:Music
END:VEVENT
BEGIN:VEVENT
DTSTART;TZID=Australia/Perth:20251201T083000
DTEND;TZID=Australia/Perth:20251203T084000
DTSTAMP:20260423T064308
CREATED:20251003T035616Z
LAST-MODIFIED:20251003T035616Z
UID:10336-1764577800-1764751200@richmondps.wa.edu.au
SUMMARY:Library Open
DESCRIPTION:Families welcome 8.30 – 8.40am
URL:https://richmondps.wa.edu.au/event/library-open-12/
END:VEVENT
BEGIN:VEVENT
DTSTART;VALUE=DATE:20251202
DTEND;VALUE=DATE:20251203
DTSTAMP:20260423T064308
CREATED:20251001T061601Z
LAST-MODIFIED:20251001T061601Z
UID:10162-1764633600-1764719999@richmondps.wa.edu.au
SUMMARY:Kindy Concert Music Circle KA
DESCRIPTION:
URL:https://richmondps.wa.edu.au/event/kindy-concert-music-circle-ka/
CATEGORIES:Incursion
END:VEVENT
BEGIN:VEVENT
DTSTART;TZID=Australia/Perth:20251202T080000
DTEND;TZID=Australia/Perth:20251202T083500
DTSTAMP:20260423T064308
CREATED:20251001T072456Z
LAST-MODIFIED:20251001T072456Z
UID:10274-1764662400-1764664500@richmondps.wa.edu.au
SUMMARY:Student Parliament Roundtable Year 6
DESCRIPTION:Student Parliament Roundtable Year 6 in Room 14
URL:https://richmondps.wa.edu.au/event/student-parliament-roundtable-year-6-8/
CATEGORIES:Student Event
END:VEVENT
BEGIN:VEVENT
DTSTART;TZID=Australia/Perth:20251202T081000
DTEND;TZID=Australia/Perth:20251202T083000
DTSTAMP:20260423T064308
CREATED:20251003T032912Z
LAST-MODIFIED:20251003T032912Z
UID:10296-1764663000-1764664200@richmondps.wa.edu.au
SUMMARY:Marathon Club
DESCRIPTION:Marathon Club for Years 3 – 6 on the oval. Sign up through Connect.
URL:https://richmondps.wa.edu.au/event/marathon-club-13/
CATEGORIES:School Sports
END:VEVENT
BEGIN:VEVENT
DTSTART;VALUE=DATE:20251203
DTEND;VALUE=DATE:20251204
DTSTAMP:20260423T064308
CREATED:20251001T061717Z
LAST-MODIFIED:20251001T061717Z
UID:10166-1764720000-1764806399@richmondps.wa.edu.au
SUMMARY:Kindy Concert Music Circle KC
DESCRIPTION:
URL:https://richmondps.wa.edu.au/event/kindy-concert-music-circle-kc/
CATEGORIES:Incursion
END:VEVENT
BEGIN:VEVENT
DTSTART;VALUE=DATE:20251203
DTEND;VALUE=DATE:20251204
DTSTAMP:20260423T064308
CREATED:20251001T063600Z
LAST-MODIFIED:20251024T072408Z
UID:10182-1764720000-1764806399@richmondps.wa.edu.au
SUMMARY:Bike Ed Excursion Yr 4
DESCRIPTION:
URL:https://richmondps.wa.edu.au/event/bike-ride-yr-4/
CATEGORIES:Excursion
END:VEVENT
BEGIN:VEVENT
DTSTART;TZID=Australia/Perth:20251203T080000
DTEND;TZID=Australia/Perth:20251203T084000
DTSTAMP:20260423T064308
CREATED:20251001T070931Z
LAST-MODIFIED:20251001T070931Z
UID:10238-1764748800-1764751200@richmondps.wa.edu.au
SUMMARY:Choir
DESCRIPTION:
URL:https://richmondps.wa.edu.au/event/choir-12/
CATEGORIES:Music
END:VEVENT
BEGIN:VEVENT
DTSTART;VALUE=DATE:20251204
DTEND;VALUE=DATE:20251205
DTSTAMP:20260423T064308
CREATED:20251001T061646Z
LAST-MODIFIED:20251001T061646Z
UID:10164-1764806400-1764892799@richmondps.wa.edu.au
SUMMARY:Kindy Concert Music Circle KB
DESCRIPTION:
URL:https://richmondps.wa.edu.au/event/kindy-concert-music-circle-kb/
CATEGORIES:Incursion
END:VEVENT
BEGIN:VEVENT
DTSTART;TZID=Australia/Perth:20251204T081000
DTEND;TZID=Australia/Perth:20251204T083000
DTSTAMP:20260423T064308
CREATED:20251003T033853Z
LAST-MODIFIED:20251003T033853Z
UID:10316-1764835800-1764837000@richmondps.wa.edu.au
SUMMARY:Just for Run
DESCRIPTION:Just for Run Club focuses on fun and fitness on the oval. Sign up though Connect.
URL:https://richmondps.wa.edu.au/event/just-for-run-9/
CATEGORIES:School Sports
END:VEVENT
BEGIN:VEVENT
DTSTART;TZID=Australia/Perth:20251205T080000
DTEND;TZID=Australia/Perth:20251205T084000
DTSTAMP:20260423T064308
CREATED:20251001T071430Z
LAST-MODIFIED:20251001T071430Z
UID:10254-1764921600-1764924000@richmondps.wa.edu.au
SUMMARY:Recorder L1 Assistance
DESCRIPTION:
URL:https://richmondps.wa.edu.au/event/recorder-l1-assistance-7/
CATEGORIES:Music
END:VEVENT
BEGIN:VEVENT
DTSTART;TZID=Australia/Perth:20251205T080000
DTEND;TZID=Australia/Perth:20251205T084500
DTSTAMP:20260423T064308
CREATED:20251029T033132Z
LAST-MODIFIED:20251029T033132Z
UID:10374-1764921600-1764924300@richmondps.wa.edu.au
SUMMARY:Second Hand Uniform Shop Open
DESCRIPTION:At the P & C shed on the oval
URL:https://richmondps.wa.edu.au/event/second-hand-uniform-shop-open-9/
CATEGORIES:P&C Events
END:VEVENT
BEGIN:VEVENT
DTSTART;TZID=Australia/Perth:20251205T090000
DTEND;TZID=Australia/Perth:20251205T094500
DTSTAMP:20260423T064308
CREATED:20250820T072952Z
LAST-MODIFIED:20251020T002038Z
UID:10075-1764925200-1764927900@richmondps.wa.edu.au
SUMMARY:Assembly Rooms 6 & 9
DESCRIPTION:
URL:https://richmondps.wa.edu.au/event/assembly-rooms-6-9-2/
CATEGORIES:0Assembly
END:VEVENT
END:VCALENDAR