BEGIN:VCALENDAR
VERSION:2.0
PRODID:-//Richmond Primary School - ECPv6.15.18//NONSGML v1.0//EN
CALSCALE:GREGORIAN
METHOD:PUBLISH
X-WR-CALNAME:Richmond Primary School
X-ORIGINAL-URL:https://richmondps.wa.edu.au
X-WR-CALDESC:Events for Richmond Primary School
REFRESH-INTERVAL;VALUE=DURATION:PT1H
X-Robots-Tag:noindex
X-PUBLISHED-TTL:PT1H
BEGIN:VTIMEZONE
TZID:Australia/Perth
BEGIN:STANDARD
TZOFFSETFROM:+0800
TZOFFSETTO:+0800
TZNAME:AWST
DTSTART:20240101T000000
END:STANDARD
END:VTIMEZONE
BEGIN:VEVENT
DTSTART;VALUE=DATE:20250318
DTEND;VALUE=DATE:20250319
DTSTAMP:20260420T005350
CREATED:20250206T043117Z
LAST-MODIFIED:20250206T054326Z
UID:9560-1742256000-1742342399@richmondps.wa.edu.au
SUMMARY:Edu Dance
DESCRIPTION:
URL:https://richmondps.wa.edu.au/event/edu-dance-24/
CATEGORIES:School Events
END:VEVENT
BEGIN:VEVENT
DTSTART;VALUE=DATE:20250318
DTEND;VALUE=DATE:20250319
DTSTAMP:20260420T005350
CREATED:20250206T043952Z
LAST-MODIFIED:20250206T043952Z
UID:9563-1742256000-1742342399@richmondps.wa.edu.au
SUMMARY:NAPLAN
DESCRIPTION:
URL:https://richmondps.wa.edu.au/event/naplan-7/
CATEGORIES:NAPLAN
END:VEVENT
BEGIN:VEVENT
DTSTART;VALUE=DATE:20250319
DTEND;VALUE=DATE:20250320
DTSTAMP:20260420T005350
CREATED:20250206T044025Z
LAST-MODIFIED:20250206T044025Z
UID:9565-1742342400-1742428799@richmondps.wa.edu.au
SUMMARY:NAPLAN
DESCRIPTION:
URL:https://richmondps.wa.edu.au/event/naplan-8/
CATEGORIES:NAPLAN
END:VEVENT
BEGIN:VEVENT
DTSTART;VALUE=DATE:20250319
DTEND;VALUE=DATE:20250320
DTSTAMP:20260420T005350
CREATED:20250206T054406Z
LAST-MODIFIED:20250206T054406Z
UID:9601-1742342400-1742428799@richmondps.wa.edu.au
SUMMARY:Edu Dance
DESCRIPTION:
URL:https://richmondps.wa.edu.au/event/edu-dance-29/
CATEGORIES:School Events
END:VEVENT
BEGIN:VEVENT
DTSTART;VALUE=DATE:20250320
DTEND;VALUE=DATE:20250321
DTSTAMP:20260420T005350
CREATED:20250206T044058Z
LAST-MODIFIED:20250206T044058Z
UID:9567-1742428800-1742515199@richmondps.wa.edu.au
SUMMARY:NAPLAN
DESCRIPTION:
URL:https://richmondps.wa.edu.au/event/naplan-9/
CATEGORIES:NAPLAN
END:VEVENT
BEGIN:VEVENT
DTSTART;VALUE=DATE:20250321
DTEND;VALUE=DATE:20250322
DTSTAMP:20260420T005350
CREATED:20250206T044122Z
LAST-MODIFIED:20250206T044122Z
UID:9569-1742515200-1742601599@richmondps.wa.edu.au
SUMMARY:NAPLAN
DESCRIPTION:
URL:https://richmondps.wa.edu.au/event/naplan-10/
CATEGORIES:NAPLAN
END:VEVENT
BEGIN:VEVENT
DTSTART;VALUE=DATE:20250324
DTEND;VALUE=DATE:20250325
DTSTAMP:20260420T005350
CREATED:20250206T045322Z
LAST-MODIFIED:20250206T045322Z
UID:9571-1742774400-1742860799@richmondps.wa.edu.au
SUMMARY:NAPLAN
DESCRIPTION:
URL:https://richmondps.wa.edu.au/event/naplan-11/
CATEGORIES:NAPLAN
END:VEVENT
BEGIN:VEVENT
DTSTART;VALUE=DATE:20250325
DTEND;VALUE=DATE:20250326
DTSTAMP:20260420T005350
CREATED:20250206T045534Z
LAST-MODIFIED:20250206T045534Z
UID:9575-1742860800-1742947199@richmondps.wa.edu.au
SUMMARY:Edu Dance
DESCRIPTION:
URL:https://richmondps.wa.edu.au/event/edu-dance-27/
CATEGORIES:School Events
END:VEVENT
BEGIN:VEVENT
DTSTART;VALUE=DATE:20250326
DTEND;VALUE=DATE:20250327
DTSTAMP:20260420T005350
CREATED:20250206T045701Z
LAST-MODIFIED:20250206T045701Z
UID:9577-1742947200-1743033599@richmondps.wa.edu.au
SUMMARY:Edu Dance
DESCRIPTION:
URL:https://richmondps.wa.edu.au/event/edu-dance-28/
CATEGORIES:School Events
END:VEVENT
BEGIN:VEVENT
DTSTART;VALUE=DATE:20250327
DTEND;VALUE=DATE:20250328
DTSTAMP:20260420T005350
CREATED:20250327T063700Z
LAST-MODIFIED:20250327T063700Z
UID:9669-1743033600-1743119999@richmondps.wa.edu.au
SUMMARY:Students Return for Term 2
DESCRIPTION:
URL:https://richmondps.wa.edu.au/event/students-return-for-term-2-2/
CATEGORIES:School Events,Term Dates
END:VEVENT
BEGIN:VEVENT
DTSTART;VALUE=DATE:20250328
DTEND;VALUE=DATE:20250329
DTSTAMP:20260420T005350
CREATED:20250206T045743Z
LAST-MODIFIED:20250224T055144Z
UID:9579-1743120000-1743206399@richmondps.wa.edu.au
SUMMARY:Assembly - Rm 12&15
DESCRIPTION:
URL:https://richmondps.wa.edu.au/event/assembly-rm-12/
CATEGORIES:0Assembly
END:VEVENT
BEGIN:VEVENT
DTSTART;VALUE=DATE:20250401
DTEND;VALUE=DATE:20250402
DTSTAMP:20260420T005350
CREATED:20250206T045351Z
LAST-MODIFIED:20250206T045436Z
UID:9573-1743465600-1743551999@richmondps.wa.edu.au
SUMMARY:NAPLAN
DESCRIPTION:
URL:https://richmondps.wa.edu.au/event/naplan-12/
CATEGORIES:NAPLAN
END:VEVENT
BEGIN:VEVENT
DTSTART;VALUE=DATE:20250401
DTEND;VALUE=DATE:20250402
DTSTAMP:20260420T005350
CREATED:20250319T235543Z
LAST-MODIFIED:20250319T235543Z
UID:9661-1743465600-1743551999@richmondps.wa.edu.au
SUMMARY:Town of East Fremantle - Year 4 (Rooms 4&12)
DESCRIPTION:
URL:https://richmondps.wa.edu.au/event/town-of-east-fremantle-year-4-rooms-412/
END:VEVENT
BEGIN:VEVENT
DTSTART;VALUE=DATE:20250402
DTEND;VALUE=DATE:20250403
DTSTAMP:20260420T005350
CREATED:20250206T045831Z
LAST-MODIFIED:20250319T235343Z
UID:9581-1743552000-1743638399@richmondps.wa.edu.au
SUMMARY:Footy Gala Day Year 1
DESCRIPTION:
URL:https://richmondps.wa.edu.au/event/gala-day-tbc/
CATEGORIES:School Events
END:VEVENT
BEGIN:VEVENT
DTSTART;VALUE=DATE:20250404
DTEND;VALUE=DATE:20250405
DTSTAMP:20260420T005350
CREATED:20250206T045941Z
LAST-MODIFIED:20250207T030519Z
UID:9583-1743724800-1743811199@richmondps.wa.edu.au
SUMMARY:Cricket & Mod Crosse
DESCRIPTION:
URL:https://richmondps.wa.edu.au/event/cricket-mod-crosse-tbc/
CATEGORIES:School Sports
END:VEVENT
BEGIN:VEVENT
DTSTART;VALUE=DATE:20250407
DTEND;VALUE=DATE:20250408
DTSTAMP:20260420T005350
CREATED:20250206T050859Z
LAST-MODIFIED:20250319T235246Z
UID:9587-1743984000-1744070399@richmondps.wa.edu.au
SUMMARY:Edu Dance Concert 2pm
DESCRIPTION:
URL:https://richmondps.wa.edu.au/event/edu-dance-concert-3/
CATEGORIES:School Events
END:VEVENT
BEGIN:VEVENT
DTSTART;VALUE=DATE:20250409
DTEND;VALUE=DATE:20250410
DTSTAMP:20260420T005350
CREATED:20250206T050937Z
LAST-MODIFIED:20260224T013634Z
UID:9589-1744156800-1744243199@richmondps.wa.edu.au
SUMMARY:Edu Dance Concert 2pm
DESCRIPTION:
URL:https://richmondps.wa.edu.au/event/adu-dance-concert/
CATEGORIES:School Events
END:VEVENT
BEGIN:VEVENT
DTSTART;VALUE=DATE:20250410
DTEND;VALUE=DATE:20250411
DTSTAMP:20260420T005350
CREATED:20250206T052146Z
LAST-MODIFIED:20250206T052146Z
UID:9591-1744243200-1744329599@richmondps.wa.edu.au
SUMMARY:Interschool Swimming Yr 4 - 6
DESCRIPTION:
URL:https://richmondps.wa.edu.au/event/interschool-swimming-yr-4-6/
CATEGORIES:School Sports
END:VEVENT
BEGIN:VEVENT
DTSTART;TZID=Australia/Perth:20250410T190000
DTEND;TZID=Australia/Perth:20250410T200000
DTSTAMP:20260420T005350
CREATED:20250206T050159Z
LAST-MODIFIED:20250206T050448Z
UID:9585-1744311600-1744315200@richmondps.wa.edu.au
SUMMARY:ANZAC Flowers Evening
DESCRIPTION:
URL:https://richmondps.wa.edu.au/event/anzac-flowers-evening/
CATEGORIES:P&C Events
END:VEVENT
BEGIN:VEVENT
DTSTART;VALUE=DATE:20250411
DTEND;VALUE=DATE:20250412
DTSTAMP:20260420T005350
CREATED:20250206T052236Z
LAST-MODIFIED:20250206T052236Z
UID:9593-1744329600-1744415999@richmondps.wa.edu.au
SUMMARY:ANZAC Service
DESCRIPTION:
URL:https://richmondps.wa.edu.au/event/anzac-service/
END:VEVENT
BEGIN:VEVENT
DTSTART;VALUE=DATE:20250411
DTEND;VALUE=DATE:20250412
DTSTAMP:20260420T005350
CREATED:20250206T052316Z
LAST-MODIFIED:20250206T052316Z
UID:9595-1744329600-1744415999@richmondps.wa.edu.au
SUMMARY:Last Day of Term
DESCRIPTION:
URL:https://richmondps.wa.edu.au/event/last-day-of-term/
CATEGORIES:Term Dates
END:VEVENT
BEGIN:VEVENT
DTSTART;VALUE=DATE:20250428
DTEND;VALUE=DATE:20250429
DTSTAMP:20260420T005350
CREATED:20250327T063449Z
LAST-MODIFIED:20250327T063449Z
UID:9667-1745798400-1745884799@richmondps.wa.edu.au
SUMMARY:School Development Day - No Students Attend
DESCRIPTION:
URL:https://richmondps.wa.edu.au/event/school-development-day-no-students-attend/
CATEGORIES:School Events
END:VEVENT
BEGIN:VEVENT
DTSTART;VALUE=DATE:20250428
DTEND;VALUE=DATE:20250429
DTSTAMP:20260420T005350
CREATED:20250403T072934Z
LAST-MODIFIED:20250403T072934Z
UID:9712-1745798400-1745884799@richmondps.wa.edu.au
SUMMARY:School Development Day (No Students)
DESCRIPTION:
URL:https://richmondps.wa.edu.au/event/school-development-day-no-students-3/
CATEGORIES:School Events
END:VEVENT
BEGIN:VEVENT
DTSTART;VALUE=DATE:20250429
DTEND;VALUE=DATE:20250430
DTSTAMP:20260420T005350
CREATED:20250403T071532Z
LAST-MODIFIED:20250403T071532Z
UID:9702-1745884800-1745971199@richmondps.wa.edu.au
SUMMARY:Students Return for Term 2
DESCRIPTION:
URL:https://richmondps.wa.edu.au/event/students-return-for-term-2-3/
CATEGORIES:School Events,Term Dates
END:VEVENT
BEGIN:VEVENT
DTSTART;VALUE=DATE:20250430
DTEND;VALUE=DATE:20250510
DTSTAMP:20260420T005350
CREATED:20250327T063927Z
LAST-MODIFIED:20250327T064018Z
UID:9671-1745971200-1746835199@richmondps.wa.edu.au
SUMMARY:In-Term Swimming Years 1-3
DESCRIPTION:
URL:https://richmondps.wa.edu.au/event/in-term-swimming-years-1-3/
CATEGORIES:School Events
END:VEVENT
BEGIN:VEVENT
DTSTART;VALUE=DATE:20250509
DTEND;VALUE=DATE:20250510
DTSTAMP:20260420T005350
CREATED:20250206T055529Z
LAST-MODIFIED:20250206T055529Z
UID:9606-1746748800-1746835199@richmondps.wa.edu.au
SUMMARY:Mother's Day in the Quad
DESCRIPTION:
URL:https://richmondps.wa.edu.au/event/mothers-day-in-the-quad-2/
CATEGORIES:P&C Events
END:VEVENT
BEGIN:VEVENT
DTSTART;VALUE=DATE:20250509
DTEND;VALUE=DATE:20250510
DTSTAMP:20260420T005350
CREATED:20250327T064319Z
LAST-MODIFIED:20250508T025307Z
UID:9676-1746748800-1746835199@richmondps.wa.edu.au
SUMMARY:Mother's Day Breakfast in the Quad 7.30am
DESCRIPTION:
URL:https://richmondps.wa.edu.au/event/mothers-day-breakfast-in-the-quad-7-45am/
CATEGORIES:P&C Events,School Events
END:VEVENT
BEGIN:VEVENT
DTSTART;VALUE=DATE:20250513
DTEND;VALUE=DATE:20250514
DTSTAMP:20260420T005350
CREATED:20250327T064144Z
LAST-MODIFIED:20250428T050100Z
UID:9673-1747094400-1747180799@richmondps.wa.edu.au
SUMMARY:P&C General Meeting 7PM
DESCRIPTION:
URL:https://richmondps.wa.edu.au/event/pc-general-meeting-7pm/
CATEGORIES:P&C Events
END:VEVENT
BEGIN:VEVENT
DTSTART;TZID=Australia/Perth:20250514T190000
DTEND;TZID=Australia/Perth:20250514T213000
DTSTAMP:20260420T005350
CREATED:20250514T030909Z
LAST-MODIFIED:20250514T030909Z
UID:9735-1747249200-1747258200@richmondps.wa.edu.au
SUMMARY:Parenting Workshop
DESCRIPTION:
URL:https://richmondps.wa.edu.au/event/parenting-workshop/
LOCATION:School Library
CATEGORIES:School Events
END:VEVENT
BEGIN:VEVENT
DTSTART;VALUE=DATE:20250515
DTEND;VALUE=DATE:20250516
DTSTAMP:20260420T005350
CREATED:20250327T064528Z
LAST-MODIFIED:20250327T064528Z
UID:9678-1747267200-1747353599@richmondps.wa.edu.au
SUMMARY:House Cross Country (Years 3-6)
DESCRIPTION:
URL:https://richmondps.wa.edu.au/event/house-cross-country-years-3-6/
CATEGORIES:School Events,School Sports
END:VEVENT
END:VCALENDAR