BEGIN:VCALENDAR
VERSION:2.0
PRODID:-//Richmond Primary School - ECPv6.15.18//NONSGML v1.0//EN
CALSCALE:GREGORIAN
METHOD:PUBLISH
X-WR-CALNAME:Richmond Primary School
X-ORIGINAL-URL:https://richmondps.wa.edu.au
X-WR-CALDESC:Events for Richmond Primary School
REFRESH-INTERVAL;VALUE=DURATION:PT1H
X-Robots-Tag:noindex
X-PUBLISHED-TTL:PT1H
BEGIN:VTIMEZONE
TZID:Australia/Perth
BEGIN:STANDARD
TZOFFSETFROM:+0800
TZOFFSETTO:+0800
TZNAME:AWST
DTSTART:20240101T000000
END:STANDARD
END:VTIMEZONE
BEGIN:VEVENT
DTSTART;VALUE=DATE:20251218
DTEND;VALUE=DATE:20251219
DTSTAMP:20260423T134218
CREATED:20250403T072527Z
LAST-MODIFIED:20250403T072527Z
UID:9710-1766016000-1766102399@richmondps.wa.edu.au
SUMMARY:Last Day of Term 4
DESCRIPTION:
URL:https://richmondps.wa.edu.au/event/last-day-of-term-4/
CATEGORIES:School Events,Term Dates
END:VEVENT
BEGIN:VEVENT
DTSTART;TZID=Australia/Perth:20251218T081000
DTEND;TZID=Australia/Perth:20251218T083000
DTSTAMP:20260423T134218
CREATED:20251003T034020Z
LAST-MODIFIED:20251003T034020Z
UID:10320-1766045400-1766046600@richmondps.wa.edu.au
SUMMARY:Just for Run
DESCRIPTION:Just for Run Club focuses on fun and fitness on the oval. Sign up though Connect.
URL:https://richmondps.wa.edu.au/event/just-for-run-11/
CATEGORIES:School Sports
END:VEVENT
BEGIN:VEVENT
DTSTART;VALUE=DATE:20260202
DTEND;VALUE=DATE:20260203
DTSTAMP:20260423T134218
CREATED:20251003T040817Z
LAST-MODIFIED:20251211T030625Z
UID:10346-1769990400-1770076799@richmondps.wa.edu.au
SUMMARY:First Day of Term 1
DESCRIPTION:Students begin today.
URL:https://richmondps.wa.edu.au/event/first-day-of-term-1/
END:VEVENT
BEGIN:VEVENT
DTSTART;VALUE=DATE:20260204
DTEND;VALUE=DATE:20260205
DTSTAMP:20260423T134218
CREATED:20260130T053056Z
LAST-MODIFIED:20260130T053401Z
UID:10632-1770163200-1770249599@richmondps.wa.edu.au
SUMMARY:Edu Dance
DESCRIPTION:Rooms 4\, 5\, 6\, 8\, 9\,12\,15\,14\,16
URL:https://richmondps.wa.edu.au/event/edu-dance/
CATEGORIES:Incursion
END:VEVENT
BEGIN:VEVENT
DTSTART;VALUE=DATE:20260210
DTEND;VALUE=DATE:20260211
DTSTAMP:20260423T134218
CREATED:20260130T054528Z
LAST-MODIFIED:20260130T054528Z
UID:10652-1770681600-1770767999@richmondps.wa.edu.au
SUMMARY:Edu Dance
DESCRIPTION:Rooms 0\, 1\, 2\, 3\, 7\, 10\, 11
URL:https://richmondps.wa.edu.au/event/edu-dance-10/
CATEGORIES:Incursion
END:VEVENT
BEGIN:VEVENT
DTSTART;VALUE=DATE:20260211
DTEND;VALUE=DATE:20260212
DTSTAMP:20260423T134218
CREATED:20260130T055433Z
LAST-MODIFIED:20260130T055433Z
UID:10656-1770768000-1770854399@richmondps.wa.edu.au
SUMMARY:Edu Dance
DESCRIPTION:Rooms 4\, 5\, 6\, 8\, 9\,12\,15\,14\,16
URL:https://richmondps.wa.edu.au/event/edu-dance-2/
CATEGORIES:Incursion
END:VEVENT
BEGIN:VEVENT
DTSTART;VALUE=DATE:20260213
DTEND;VALUE=DATE:20260214
DTSTAMP:20260423T134218
CREATED:20260211T001403Z
LAST-MODIFIED:20260212T010921Z
UID:10689-1770940800-1771027199@richmondps.wa.edu.au
SUMMARY:Assembly - Welcome Back to School
DESCRIPTION:
URL:https://richmondps.wa.edu.au/event/assembly-welcome-back-to-school/
CATEGORIES:0Assembly
END:VEVENT
BEGIN:VEVENT
DTSTART;VALUE=DATE:20260217
DTEND;VALUE=DATE:20260218
DTSTAMP:20260423T134218
CREATED:20260130T054731Z
LAST-MODIFIED:20260130T055019Z
UID:10654-1771286400-1771372799@richmondps.wa.edu.au
SUMMARY:Edu Dance
DESCRIPTION:Rooms 0\, 1\, 2\, 3\, 7\, 10\, 11
URL:https://richmondps.wa.edu.au/event/edu-dance-11/
CATEGORIES:Incursion
END:VEVENT
BEGIN:VEVENT
DTSTART;TZID=Australia/Perth:20260217T190000
DTEND;TZID=Australia/Perth:20260217T210000
DTSTAMP:20260423T134218
CREATED:20251211T031223Z
LAST-MODIFIED:20251211T031223Z
UID:10525-1771354800-1771362000@richmondps.wa.edu.au
SUMMARY:P & C AGM
DESCRIPTION:Held in the library from 7pm
URL:https://richmondps.wa.edu.au/event/p-c-agm/
CATEGORIES:P&C Events
END:VEVENT
BEGIN:VEVENT
DTSTART;VALUE=DATE:20260218
DTEND;VALUE=DATE:20260219
DTSTAMP:20260423T134218
CREATED:20260130T053532Z
LAST-MODIFIED:20260130T053532Z
UID:10636-1771372800-1771459199@richmondps.wa.edu.au
SUMMARY:Edu Dance
DESCRIPTION:Rooms 4\, 5\, 6\, 8\, 9\,12\,15\,14\,16
URL:https://richmondps.wa.edu.au/event/edu-dance-3/
CATEGORIES:Incursion
END:VEVENT
BEGIN:VEVENT
DTSTART;TZID=Australia/Perth:20260218T093000
DTEND;TZID=Australia/Perth:20260218T103000
DTSTAMP:20260423T134218
CREATED:20260128T001947Z
LAST-MODIFIED:20260128T001947Z
UID:10628-1771407000-1771410600@richmondps.wa.edu.au
SUMMARY:School Tour
DESCRIPTION:
URL:https://richmondps.wa.edu.au/event/school-tour/
END:VEVENT
BEGIN:VEVENT
DTSTART;TZID=Australia/Perth:20260219T090000
DTEND;TZID=Australia/Perth:20260219T120000
DTSTAMP:20260423T134218
CREATED:20251003T040507Z
LAST-MODIFIED:20251003T040507Z
UID:10344-1771491600-1771502400@richmondps.wa.edu.au
SUMMARY:Swimming Time Trials
DESCRIPTION:Fremantle Leisure Centre
URL:https://richmondps.wa.edu.au/event/swimming-time-trials/
CATEGORIES:School Sports
END:VEVENT
BEGIN:VEVENT
DTSTART;VALUE=DATE:20260220
DTEND;VALUE=DATE:20260221
DTSTAMP:20260423T134218
CREATED:20260130T070113Z
LAST-MODIFIED:20260130T070113Z
UID:10677-1771545600-1771631999@richmondps.wa.edu.au
SUMMARY:Edu Dance Catch Up Lessons
DESCRIPTION:Rooms 0\, 1\, 2\, 3\, 7\, 10\, 11
URL:https://richmondps.wa.edu.au/event/edu-dance-catch-up-lessons/
CATEGORIES:Incursion
END:VEVENT
BEGIN:VEVENT
DTSTART;TZID=Australia/Perth:20260220T150000
DTEND;TZID=Australia/Perth:20260220T163000
DTSTAMP:20260423T134218
CREATED:20251211T031840Z
LAST-MODIFIED:20260211T055758Z
UID:10535-1771599600-1771605000@richmondps.wa.edu.au
SUMMARY:Kindy Sundowner
DESCRIPTION:Save the date – more information to come
URL:https://richmondps.wa.edu.au/event/kindy-sundowner/
CATEGORIES:P&C Events
END:VEVENT
BEGIN:VEVENT
DTSTART;VALUE=DATE:20260224
DTEND;VALUE=DATE:20260225
DTSTAMP:20260423T134218
CREATED:20260130T061202Z
LAST-MODIFIED:20260130T061202Z
UID:10658-1771891200-1771977599@richmondps.wa.edu.au
SUMMARY:Edu Dance
DESCRIPTION:Rooms 0\, 1\, 2\, 3\, 7\, 10\, 11
URL:https://richmondps.wa.edu.au/event/edu-dance-12/
CATEGORIES:Incursion
END:VEVENT
BEGIN:VEVENT
DTSTART;TZID=Australia/Perth:20260224T190000
DTEND;TZID=Australia/Perth:20260224T210000
DTSTAMP:20260423T134218
CREATED:20260130T063142Z
LAST-MODIFIED:20260130T063142Z
UID:10673-1771959600-1771966800@richmondps.wa.edu.au
SUMMARY:School Board Meeting
DESCRIPTION:In the library from 7pm
URL:https://richmondps.wa.edu.au/event/school-board-meeting-2/
END:VEVENT
BEGIN:VEVENT
DTSTART;VALUE=DATE:20260225
DTEND;VALUE=DATE:20260226
DTSTAMP:20260423T134218
CREATED:20260130T053608Z
LAST-MODIFIED:20260130T053608Z
UID:10638-1771977600-1772063999@richmondps.wa.edu.au
SUMMARY:Edu Dance
DESCRIPTION:Rooms 4\, 5\, 6\, 8\, 9\,12\,15\,14\,16
URL:https://richmondps.wa.edu.au/event/edu-dance-4/
CATEGORIES:Incursion
END:VEVENT
BEGIN:VEVENT
DTSTART;VALUE=DATE:20260227
DTEND;VALUE=DATE:20260228
DTSTAMP:20260423T134218
CREATED:20251211T032700Z
LAST-MODIFIED:20260130T072252Z
UID:10537-1772150400-1772236799@richmondps.wa.edu.au
SUMMARY:Assembly Whole School Community Song
DESCRIPTION:
URL:https://richmondps.wa.edu.au/event/assembly-year-5/
CATEGORIES:0Assembly
END:VEVENT
BEGIN:VEVENT
DTSTART;VALUE=DATE:20260302
DTEND;VALUE=DATE:20260303
DTSTAMP:20260423T134218
CREATED:20251211T034453Z
LAST-MODIFIED:20251211T034453Z
UID:10556-1772409600-1772495999@richmondps.wa.edu.au
SUMMARY:Labour Day
DESCRIPTION:
URL:https://richmondps.wa.edu.au/event/labour-day/
CATEGORIES:10Public Holidays
END:VEVENT
BEGIN:VEVENT
DTSTART;VALUE=DATE:20260303
DTEND;VALUE=DATE:20260304
DTSTAMP:20260423T134218
CREATED:20260130T061252Z
LAST-MODIFIED:20260130T061252Z
UID:10660-1772496000-1772582399@richmondps.wa.edu.au
SUMMARY:Edu Dance
DESCRIPTION:Rooms 0\, 1\, 2\, 3\, 7\, 10\, 11
URL:https://richmondps.wa.edu.au/event/edu-dance-13/
CATEGORIES:Incursion
END:VEVENT
BEGIN:VEVENT
DTSTART;VALUE=DATE:20260304
DTEND;VALUE=DATE:20260305
DTSTAMP:20260423T134218
CREATED:20260130T053637Z
LAST-MODIFIED:20260130T053637Z
UID:10640-1772582400-1772668799@richmondps.wa.edu.au
SUMMARY:Edu Dance
DESCRIPTION:Rooms 4\, 5\, 6\, 8\, 9\,12\,15\,14\,16
URL:https://richmondps.wa.edu.au/event/edu-dance-5/
CATEGORIES:Incursion
END:VEVENT
BEGIN:VEVENT
DTSTART;TZID=Australia/Perth:20260305T090000
DTEND;TZID=Australia/Perth:20260305T120000
DTSTAMP:20260423T134218
CREATED:20251003T040414Z
LAST-MODIFIED:20251003T040414Z
UID:10342-1772701200-1772712000@richmondps.wa.edu.au
SUMMARY:House Swimming Carnival
DESCRIPTION:Fremantle Leisure Centre
URL:https://richmondps.wa.edu.au/event/house-swimming-carnival/
CATEGORIES:School Sports
END:VEVENT
BEGIN:VEVENT
DTSTART;VALUE=DATE:20260310
DTEND;VALUE=DATE:20260311
DTSTAMP:20260423T134218
CREATED:20260130T061317Z
LAST-MODIFIED:20260130T061317Z
UID:10662-1773100800-1773187199@richmondps.wa.edu.au
SUMMARY:Edu Dance
DESCRIPTION:Rooms 0\, 1\, 2\, 3\, 7\, 10\, 11
URL:https://richmondps.wa.edu.au/event/edu-dance-14/
CATEGORIES:Incursion
END:VEVENT
BEGIN:VEVENT
DTSTART;TZID=Australia/Perth:20260310T143000
DTEND;TZID=Australia/Perth:20260310T150000
DTSTAMP:20260423T134218
CREATED:20260309T014057Z
LAST-MODIFIED:20260309T014057Z
UID:10873-1773153000-1773154800@richmondps.wa.edu.au
SUMMARY:Classroom Rep Meeting
DESCRIPTION:Please sign in at the front office and meeting will be in the staff room.
URL:https://richmondps.wa.edu.au/event/classroom-rep-meeting-3/
END:VEVENT
BEGIN:VEVENT
DTSTART;VALUE=DATE:20260311
DTEND;VALUE=DATE:20260312
DTSTAMP:20260423T134218
CREATED:20260130T053715Z
LAST-MODIFIED:20260130T053715Z
UID:10642-1773187200-1773273599@richmondps.wa.edu.au
SUMMARY:Edu Dance
DESCRIPTION:Rooms 4\, 5\, 6\, 8\, 9\,12\,15\,14\,16
URL:https://richmondps.wa.edu.au/event/edu-dance-6/
CATEGORIES:Incursion
END:VEVENT
BEGIN:VEVENT
DTSTART;TZID=Australia/Perth:20260311T084500
DTEND;TZID=Australia/Perth:20260323T150000
DTSTAMP:20260423T134218
CREATED:20251211T032823Z
LAST-MODIFIED:20251211T032841Z
UID:10539-1773218700-1774278000@richmondps.wa.edu.au
SUMMARY:NAPLAN
DESCRIPTION:
URL:https://richmondps.wa.edu.au/event/naplan/
CATEGORIES:NAPLAN
END:VEVENT
BEGIN:VEVENT
DTSTART;TZID=Australia/Perth:20260312T084500
DTEND;TZID=Australia/Perth:20260313T150000
DTSTAMP:20260423T134218
CREATED:20260130T070338Z
LAST-MODIFIED:20260310T050837Z
UID:10679-1773305100-1773414000@richmondps.wa.edu.au
SUMMARY:Year 6 Leadership Day
DESCRIPTION:Bicton Primary School
URL:https://richmondps.wa.edu.au/event/year-6-leadership-day/
CATEGORIES:Excursion
END:VEVENT
BEGIN:VEVENT
DTSTART;TZID=Australia/Perth:20260312T090000
DTEND;TZID=Australia/Perth:20260312T093000
DTSTAMP:20260423T134218
CREATED:20260309T014142Z
LAST-MODIFIED:20260309T014142Z
UID:10875-1773306000-1773307800@richmondps.wa.edu.au
SUMMARY:Classroom Rep Meeting
DESCRIPTION:Please sign in at the front office and meeting will be in the staff room.
URL:https://richmondps.wa.edu.au/event/classroom-rep-meeting-4/
END:VEVENT
BEGIN:VEVENT
DTSTART;TZID=Australia/Perth:20260312T163000
DTEND;TZID=Australia/Perth:20260312T173000
DTSTAMP:20260423T134218
CREATED:20260312T075625Z
LAST-MODIFIED:20260312T075625Z
UID:10893-1773333000-1773336600@richmondps.wa.edu.au
SUMMARY:Parent Information Session
DESCRIPTION:Please see your Connect Notice for more information.
URL:https://richmondps.wa.edu.au/event/parent-information-session/
CATEGORIES:School Events
END:VEVENT
BEGIN:VEVENT
DTSTART;VALUE=DATE:20260313
DTEND;VALUE=DATE:20260314
DTSTAMP:20260423T134218
CREATED:20251211T033212Z
LAST-MODIFIED:20251211T033212Z
UID:10541-1773360000-1773446399@richmondps.wa.edu.au
SUMMARY:Assembly Year 2
DESCRIPTION:
URL:https://richmondps.wa.edu.au/event/assembly-year-2/
CATEGORIES:0Assembly
END:VEVENT
END:VCALENDAR