BEGIN:VCALENDAR
VERSION:2.0
PRODID:-//Richmond Primary School - ECPv6.15.18//NONSGML v1.0//EN
CALSCALE:GREGORIAN
METHOD:PUBLISH
X-WR-CALNAME:Richmond Primary School
X-ORIGINAL-URL:https://richmondps.wa.edu.au
X-WR-CALDESC:Events for Richmond Primary School
REFRESH-INTERVAL;VALUE=DURATION:PT1H
X-Robots-Tag:noindex
X-PUBLISHED-TTL:PT1H
BEGIN:VTIMEZONE
TZID:Australia/Perth
BEGIN:STANDARD
TZOFFSETFROM:+0800
TZOFFSETTO:+0800
TZNAME:AWST
DTSTART:20250101T000000
END:STANDARD
END:VTIMEZONE
BEGIN:VEVENT
DTSTART;VALUE=DATE:20260528
DTEND;VALUE=DATE:20260529
DTSTAMP:20260423T095241
CREATED:20260318T060613Z
LAST-MODIFIED:20260318T060613Z
UID:10903-1779926400-1780012799@richmondps.wa.edu.au
SUMMARY:Year 5 STEM Rocket Science Experience
DESCRIPTION:
URL:https://richmondps.wa.edu.au/event/year-5-stem-rocket-science-experience/
CATEGORIES:Excursion
END:VEVENT
BEGIN:VEVENT
DTSTART;VALUE=DATE:20260529
DTEND;VALUE=DATE:20260530
DTSTAMP:20260423T095241
CREATED:20260212T022322Z
LAST-MODIFIED:20260212T022322Z
UID:10761-1780012800-1780099199@richmondps.wa.edu.au
SUMMARY:Student Free Day
DESCRIPTION:
URL:https://richmondps.wa.edu.au/event/student-free-day/
CATEGORIES:School Events
END:VEVENT
BEGIN:VEVENT
DTSTART;VALUE=DATE:20260601
DTEND;VALUE=DATE:20260602
DTSTAMP:20260423T095241
CREATED:20260212T020304Z
LAST-MODIFIED:20260212T020304Z
UID:10731-1780272000-1780358399@richmondps.wa.edu.au
SUMMARY:Public Holiday WA Day
DESCRIPTION:
URL:https://richmondps.wa.edu.au/event/public-holiday-wa-day/
CATEGORIES:10Public Holidays
END:VEVENT
BEGIN:VEVENT
DTSTART;TZID=Australia/Perth:20260602T143000
DTEND;TZID=Australia/Perth:20260602T153000
DTSTAMP:20260423T095241
CREATED:20260304T013543Z
LAST-MODIFIED:20260304T013543Z
UID:10859-1780410600-1780414200@richmondps.wa.edu.au
SUMMARY:Second Hand Uniform Shop Open
DESCRIPTION:At the P & C shed on the oval.
URL:https://richmondps.wa.edu.au/event/second-hand-uniform-shop-open-15/
CATEGORIES:P&C Events
END:VEVENT
BEGIN:VEVENT
DTSTART;TZID=Australia/Perth:20260603T093000
DTEND;TZID=Australia/Perth:20260603T103000
DTSTAMP:20260423T095241
CREATED:20260212T020955Z
LAST-MODIFIED:20260212T020955Z
UID:10743-1780479000-1780482600@richmondps.wa.edu.au
SUMMARY:School Tour
DESCRIPTION:
URL:https://richmondps.wa.edu.au/event/school-tour-4/
END:VEVENT
BEGIN:VEVENT
DTSTART;VALUE=DATE:20260605
DTEND;VALUE=DATE:20260606
DTSTAMP:20260423T095241
CREATED:20260211T015335Z
LAST-MODIFIED:20260211T015335Z
UID:10703-1780617600-1780703999@richmondps.wa.edu.au
SUMMARY:Assembly - Year PP
DESCRIPTION:
URL:https://richmondps.wa.edu.au/event/assembly-year-pp/
CATEGORIES:0Assembly
END:VEVENT
BEGIN:VEVENT
DTSTART;TZID=Australia/Perth:20260605T074500
DTEND;TZID=Australia/Perth:20260605T084500
DTSTAMP:20260423T095241
CREATED:20260304T010708Z
LAST-MODIFIED:20260304T010708Z
UID:10845-1780645500-1780649100@richmondps.wa.edu.au
SUMMARY:Second Hand Uniform Shop Open
DESCRIPTION:At the P & C shed on the oval.
URL:https://richmondps.wa.edu.au/event/second-hand-uniform-shop-open-4/
CATEGORIES:P&C Events
END:VEVENT
BEGIN:VEVENT
DTSTART;VALUE=DATE:20260612
DTEND;VALUE=DATE:20260613
DTSTAMP:20260423T095241
CREATED:20260211T042712Z
LAST-MODIFIED:20260211T042712Z
UID:10709-1781222400-1781308799@richmondps.wa.edu.au
SUMMARY:School Disco
DESCRIPTION:
URL:https://richmondps.wa.edu.au/event/school-disco/
CATEGORIES:P&C Events
END:VEVENT
BEGIN:VEVENT
DTSTART;TZID=Australia/Perth:20260616T143000
DTEND;TZID=Australia/Perth:20260616T153000
DTSTAMP:20260423T095241
CREATED:20260304T013626Z
LAST-MODIFIED:20260304T013626Z
UID:10861-1781620200-1781623800@richmondps.wa.edu.au
SUMMARY:Second Hand Uniform Shop Open
DESCRIPTION:At the P & C shed on the oval.
URL:https://richmondps.wa.edu.au/event/second-hand-uniform-shop-open-16/
CATEGORIES:P&C Events
END:VEVENT
BEGIN:VEVENT
DTSTART;VALUE=DATE:20260619
DTEND;VALUE=DATE:20260620
DTSTAMP:20260423T095241
CREATED:20260211T015410Z
LAST-MODIFIED:20260211T015410Z
UID:10705-1781827200-1781913599@richmondps.wa.edu.au
SUMMARY:Assembly - IMMS
DESCRIPTION:
URL:https://richmondps.wa.edu.au/event/assembly-imms/
CATEGORIES:0Assembly
END:VEVENT
BEGIN:VEVENT
DTSTART;TZID=Australia/Perth:20260619T074500
DTEND;TZID=Australia/Perth:20260619T084500
DTSTAMP:20260423T095241
CREATED:20260304T010756Z
LAST-MODIFIED:20260304T010756Z
UID:10847-1781855100-1781858700@richmondps.wa.edu.au
SUMMARY:Second Hand Uniform Shop Open
DESCRIPTION:At the P & C shed on the oval.
URL:https://richmondps.wa.edu.au/event/second-hand-uniform-shop-open-5/
CATEGORIES:P&C Events
END:VEVENT
BEGIN:VEVENT
DTSTART;VALUE=DATE:20260623
DTEND;VALUE=DATE:20260624
DTSTAMP:20260423T095241
CREATED:20260212T020718Z
LAST-MODIFIED:20260212T020718Z
UID:10735-1782172800-1782259199@richmondps.wa.edu.au
SUMMARY:School Photos
DESCRIPTION:Primary and Kindergarten
URL:https://richmondps.wa.edu.au/event/school-photos/
CATEGORIES:Student Event
END:VEVENT
BEGIN:VEVENT
DTSTART;VALUE=DATE:20260624
DTEND;VALUE=DATE:20260627
DTSTAMP:20260423T095241
CREATED:20260212T021847Z
LAST-MODIFIED:20260212T021847Z
UID:10753-1782259200-1782518399@richmondps.wa.edu.au
SUMMARY:Year 6 Camp
DESCRIPTION:
URL:https://richmondps.wa.edu.au/event/year-6-camp/
CATEGORIES:Excursion
END:VEVENT
BEGIN:VEVENT
DTSTART;VALUE=DATE:20260625
DTEND;VALUE=DATE:20260626
DTSTAMP:20260423T095241
CREATED:20260212T020750Z
LAST-MODIFIED:20260212T020750Z
UID:10737-1782345600-1782431999@richmondps.wa.edu.au
SUMMARY:School Photos
DESCRIPTION:Kindergarten
URL:https://richmondps.wa.edu.au/event/school-photos-3/
CATEGORIES:Student Event
END:VEVENT
BEGIN:VEVENT
DTSTART;VALUE=DATE:20260626
DTEND;VALUE=DATE:20260627
DTSTAMP:20260423T095241
CREATED:20260212T020824Z
LAST-MODIFIED:20260212T020824Z
UID:10739-1782432000-1782518399@richmondps.wa.edu.au
SUMMARY:School Photos
DESCRIPTION:Primary
URL:https://richmondps.wa.edu.au/event/school-photos-4/
CATEGORIES:Student Event
END:VEVENT
BEGIN:VEVENT
DTSTART;VALUE=DATE:20260629
DTEND;VALUE=DATE:20260704
DTSTAMP:20260423T095241
CREATED:20260212T020540Z
LAST-MODIFIED:20260212T020540Z
UID:10733-1782691200-1783123199@richmondps.wa.edu.au
SUMMARY:NAIDOC Week
DESCRIPTION:
URL:https://richmondps.wa.edu.au/event/naidoc-week/
END:VEVENT
BEGIN:VEVENT
DTSTART;TZID=Australia/Perth:20260630T143000
DTEND;TZID=Australia/Perth:20260630T153000
DTSTAMP:20260423T095241
CREATED:20260304T013713Z
LAST-MODIFIED:20260304T013713Z
UID:10863-1782829800-1782833400@richmondps.wa.edu.au
SUMMARY:Second Hand Uniform Shop Open
DESCRIPTION:At the P & C shed on the oval.
URL:https://richmondps.wa.edu.au/event/second-hand-uniform-shop-open-17/
CATEGORIES:P&C Events
END:VEVENT
BEGIN:VEVENT
DTSTART;VALUE=DATE:20260703
DTEND;VALUE=DATE:20260704
DTSTAMP:20260423T095241
CREATED:20260211T015747Z
LAST-MODIFIED:20260211T015747Z
UID:10707-1783036800-1783123199@richmondps.wa.edu.au
SUMMARY:Richmond's Got Talent TBC
DESCRIPTION:
URL:https://richmondps.wa.edu.au/event/richmonds-got-talent-tbc/
END:VEVENT
BEGIN:VEVENT
DTSTART;TZID=Australia/Perth:20260728T190000
DTEND;TZID=Australia/Perth:20260728T200000
DTSTAMP:20260423T095241
CREATED:20260309T015006Z
LAST-MODIFIED:20260309T015006Z
UID:10879-1785265200-1785268800@richmondps.wa.edu.au
SUMMARY:P&C General Meeting
DESCRIPTION:In the School Library 7pm
URL:https://richmondps.wa.edu.au/event/pc-general-meeting-2/
CATEGORIES:P&C Events
END:VEVENT
BEGIN:VEVENT
DTSTART;VALUE=DATE:20260731
DTEND;VALUE=DATE:20260801
DTSTAMP:20260423T095241
CREATED:20260212T012020Z
LAST-MODIFIED:20260212T012020Z
UID:10711-1785456000-1785542399@richmondps.wa.edu.au
SUMMARY:Assembly - Follow the Dream
DESCRIPTION:
URL:https://richmondps.wa.edu.au/event/assembly-follow-the-dream/
CATEGORIES:0Assembly
END:VEVENT
BEGIN:VEVENT
DTSTART;VALUE=DATE:20260811
DTEND;VALUE=DATE:20260812
DTSTAMP:20260423T095241
CREATED:20260304T013942Z
LAST-MODIFIED:20260304T013942Z
UID:10865-1786406400-1786492799@richmondps.wa.edu.au
SUMMARY:Kindy KA Incursion - Farmer Mick
DESCRIPTION:
URL:https://richmondps.wa.edu.au/event/kindy-ka-incursion-farmer-mick/
CATEGORIES:Incursion
END:VEVENT
BEGIN:VEVENT
DTSTART;TZID=Australia/Perth:20260811T190000
DTEND;TZID=Australia/Perth:20260811T200000
DTSTAMP:20260423T095241
CREATED:20260309T015601Z
LAST-MODIFIED:20260309T015601Z
UID:10885-1786474800-1786478400@richmondps.wa.edu.au
SUMMARY:School Board Meeting
DESCRIPTION:In the School Library 7pm
URL:https://richmondps.wa.edu.au/event/school-board-meeting-4/
END:VEVENT
BEGIN:VEVENT
DTSTART;VALUE=DATE:20260813
DTEND;VALUE=DATE:20260814
DTSTAMP:20260423T095241
CREATED:20260304T014022Z
LAST-MODIFIED:20260304T014022Z
UID:10867-1786579200-1786665599@richmondps.wa.edu.au
SUMMARY:Kindy KB Incursion - Farmer Mick
DESCRIPTION:
URL:https://richmondps.wa.edu.au/event/kindy-kb-incursion-farmer-mick/
CATEGORIES:P&C Events
END:VEVENT
BEGIN:VEVENT
DTSTART;VALUE=DATE:20260814
DTEND;VALUE=DATE:20260815
DTSTAMP:20260423T095241
CREATED:20260212T012313Z
LAST-MODIFIED:20260212T012313Z
UID:10713-1786665600-1786751999@richmondps.wa.edu.au
SUMMARY:Assembly - Year 5
DESCRIPTION:
URL:https://richmondps.wa.edu.au/event/assembly-year-5-2/
CATEGORIES:0Assembly
END:VEVENT
BEGIN:VEVENT
DTSTART;TZID=Australia/Perth:20260828T090000
DTEND;TZID=Australia/Perth:20260828T100000
DTSTAMP:20260423T095241
CREATED:20260212T012410Z
LAST-MODIFIED:20260212T012410Z
UID:10715-1787907600-1787911200@richmondps.wa.edu.au
SUMMARY:Book Week Parade
DESCRIPTION:
URL:https://richmondps.wa.edu.au/event/book-week-parade/
CATEGORIES:School Events
END:VEVENT
BEGIN:VEVENT
DTSTART;VALUE=DATE:20260911
DTEND;VALUE=DATE:20260912
DTSTAMP:20260423T095241
CREATED:20260212T012612Z
LAST-MODIFIED:20260212T012612Z
UID:10717-1789084800-1789171199@richmondps.wa.edu.au
SUMMARY:Assembly - Music
DESCRIPTION:
URL:https://richmondps.wa.edu.au/event/assembly-music/
CATEGORIES:0Assembly,Music
END:VEVENT
BEGIN:VEVENT
DTSTART;VALUE=DATE:20260925
DTEND;VALUE=DATE:20260926
DTSTAMP:20260423T095241
CREATED:20260212T012722Z
LAST-MODIFIED:20260212T012722Z
UID:10719-1790294400-1790380799@richmondps.wa.edu.au
SUMMARY:Assembly - Year 4
DESCRIPTION:
URL:https://richmondps.wa.edu.au/event/assembly-year-4/
CATEGORIES:0Assembly
END:VEVENT
BEGIN:VEVENT
DTSTART;TZID=Australia/Perth:20261020T190000
DTEND;TZID=Australia/Perth:20261020T193000
DTSTAMP:20260423T095241
CREATED:20260309T015250Z
LAST-MODIFIED:20260309T015250Z
UID:10881-1792522800-1792524600@richmondps.wa.edu.au
SUMMARY:P&C General Meeting
DESCRIPTION:In the School Library 7pm
URL:https://richmondps.wa.edu.au/event/pc-general-meeting-3/
CATEGORIES:P&C Events
END:VEVENT
BEGIN:VEVENT
DTSTART;VALUE=DATE:20261023
DTEND;VALUE=DATE:20261024
DTSTAMP:20260423T095241
CREATED:20260212T013010Z
LAST-MODIFIED:20260212T013010Z
UID:10721-1792713600-1792799999@richmondps.wa.edu.au
SUMMARY:Assembly - Welcome Back to School
DESCRIPTION:
URL:https://richmondps.wa.edu.au/event/assembly-welcome-back-to-school-3/
CATEGORIES:0Assembly
END:VEVENT
BEGIN:VEVENT
DTSTART;TZID=Australia/Perth:20261103T190000
DTEND;TZID=Australia/Perth:20261103T200000
DTSTAMP:20260423T095241
CREATED:20260309T015643Z
LAST-MODIFIED:20260309T015643Z
UID:10887-1793732400-1793736000@richmondps.wa.edu.au
SUMMARY:School Board Meeting
DESCRIPTION:In the School Library 7pm
URL:https://richmondps.wa.edu.au/event/school-board-meeting-5/
END:VEVENT
END:VCALENDAR