BEGIN:VCALENDAR
VERSION:2.0
PRODID:-//Richmond Primary School - ECPv6.15.18//NONSGML v1.0//EN
CALSCALE:GREGORIAN
METHOD:PUBLISH
X-WR-CALNAME:Richmond Primary School
X-ORIGINAL-URL:https://richmondps.wa.edu.au
X-WR-CALDESC:Events for Richmond Primary School
REFRESH-INTERVAL;VALUE=DURATION:PT1H
X-Robots-Tag:noindex
X-PUBLISHED-TTL:PT1H
BEGIN:VTIMEZONE
TZID:Australia/Perth
BEGIN:STANDARD
TZOFFSETFROM:+0800
TZOFFSETTO:+0800
TZNAME:AWST
DTSTART:20240101T000000
END:STANDARD
END:VTIMEZONE
BEGIN:VEVENT
DTSTART;VALUE=DATE:20250317
DTEND;VALUE=DATE:20250318
DTSTAMP:20260422T004751
CREATED:20250206T043042Z
LAST-MODIFIED:20250206T043923Z
UID:9558-1742169600-1742255999@richmondps.wa.edu.au
SUMMARY:NAPLAN
DESCRIPTION:
URL:https://richmondps.wa.edu.au/event/naplan-6/
CATEGORIES:NAPLAN
END:VEVENT
BEGIN:VEVENT
DTSTART;VALUE=DATE:20250314
DTEND;VALUE=DATE:20250315
DTSTAMP:20260422T004751
CREATED:20250206T042304Z
LAST-MODIFIED:20250206T042304Z
UID:9553-1741910400-1741996799@richmondps.wa.edu.au
SUMMARY:NAPLAN
DESCRIPTION:
URL:https://richmondps.wa.edu.au/event/naplan-5/
CATEGORIES:NAPLAN
END:VEVENT
BEGIN:VEVENT
DTSTART;VALUE=DATE:20250314
DTEND;VALUE=DATE:20250315
DTSTAMP:20260422T004751
CREATED:20250206T041710Z
LAST-MODIFIED:20250206T041710Z
UID:9551-1741910400-1741996799@richmondps.wa.edu.au
SUMMARY:Assembly - Rm10 & 14
DESCRIPTION:
URL:https://richmondps.wa.edu.au/event/assembly-rm10-14/
CATEGORIES:0Assembly
END:VEVENT
BEGIN:VEVENT
DTSTART;VALUE=DATE:20250313
DTEND;VALUE=DATE:20250314
DTSTAMP:20260422T004751
CREATED:20250206T041448Z
LAST-MODIFIED:20250206T041448Z
UID:9547-1741824000-1741910399@richmondps.wa.edu.au
SUMMARY:Kindy Photos
DESCRIPTION:
URL:https://richmondps.wa.edu.au/event/kindy-photos-3/
END:VEVENT
BEGIN:VEVENT
DTSTART;VALUE=DATE:20250313
DTEND;VALUE=DATE:20250314
DTSTAMP:20260422T004751
CREATED:20250206T041337Z
LAST-MODIFIED:20250206T041337Z
UID:9545-1741824000-1741910399@richmondps.wa.edu.au
SUMMARY:Swimming Carnival Fremantle Leisure Centre
DESCRIPTION:
URL:https://richmondps.wa.edu.au/event/swimming-carnival-fremantle-leisure-centre/
CATEGORIES:School Sports
END:VEVENT
BEGIN:VEVENT
DTSTART;VALUE=DATE:20250313
DTEND;VALUE=DATE:20250314
DTSTAMP:20260422T004751
CREATED:20250206T041242Z
LAST-MODIFIED:20250206T041242Z
UID:9543-1741824000-1741910399@richmondps.wa.edu.au
SUMMARY:NAPLAN
DESCRIPTION:
URL:https://richmondps.wa.edu.au/event/naplan-3/
CATEGORIES:NAPLAN
END:VEVENT
BEGIN:VEVENT
DTSTART;VALUE=DATE:20250312
DTEND;VALUE=DATE:20250313
DTSTAMP:20260422T004751
CREATED:20250206T042852Z
LAST-MODIFIED:20250206T042852Z
UID:9555-1741737600-1741823999@richmondps.wa.edu.au
SUMMARY:NAPLAN
DESCRIPTION:
URL:https://richmondps.wa.edu.au/event/naplan-4/
CATEGORIES:NAPLAN
END:VEVENT
BEGIN:VEVENT
DTSTART;VALUE=DATE:20250312
DTEND;VALUE=DATE:20250313
DTSTAMP:20260422T004751
CREATED:20250206T040125Z
LAST-MODIFIED:20250206T040438Z
UID:9530-1741737600-1741823999@richmondps.wa.edu.au
SUMMARY:Spinal Workshop Incursion TBC
DESCRIPTION:
URL:https://richmondps.wa.edu.au/event/spinal-workshop-incursion-tbc-2/
CATEGORIES:School Events
END:VEVENT
BEGIN:VEVENT
DTSTART;VALUE=DATE:20250312
DTEND;VALUE=DATE:20250313
DTSTAMP:20260422T004751
CREATED:20250206T040033Z
LAST-MODIFIED:20250206T055352Z
UID:9528-1741737600-1741823999@richmondps.wa.edu.au
SUMMARY:Edu Dance
DESCRIPTION:
URL:https://richmondps.wa.edu.au/event/edu-dance-25/
CATEGORIES:School Events
END:VEVENT
BEGIN:VEVENT
DTSTART;VALUE=DATE:20250311
DTEND;VALUE=DATE:20250312
DTSTAMP:20260422T004751
CREATED:20250206T041146Z
LAST-MODIFIED:20250206T041146Z
UID:9541-1741651200-1741737599@richmondps.wa.edu.au
SUMMARY:School Photos
DESCRIPTION:
URL:https://richmondps.wa.edu.au/event/school-photos-2/
END:VEVENT
BEGIN:VEVENT
DTSTART;VALUE=DATE:20250311
DTEND;VALUE=DATE:20250312
DTSTAMP:20260422T004751
CREATED:20250206T041110Z
LAST-MODIFIED:20250206T041110Z
UID:9539-1741651200-1741737599@richmondps.wa.edu.au
SUMMARY:Kindy Photos
DESCRIPTION:
URL:https://richmondps.wa.edu.au/event/kindy-photos-2/
END:VEVENT
BEGIN:VEVENT
DTSTART;VALUE=DATE:20250311
DTEND;VALUE=DATE:20250312
DTSTAMP:20260422T004751
CREATED:20250206T040151Z
LAST-MODIFIED:20250206T040151Z
UID:9532-1741651200-1741737599@richmondps.wa.edu.au
SUMMARY:Edu Dance
DESCRIPTION:
URL:https://richmondps.wa.edu.au/event/edu-dance-26/
CATEGORIES:School Events
END:VEVENT
BEGIN:VEVENT
DTSTART;VALUE=DATE:20250308
DTEND;VALUE=DATE:20250309
DTSTAMP:20260422T004751
CREATED:20250206T052629Z
LAST-MODIFIED:20250206T052629Z
UID:9599-1741392000-1741478399@richmondps.wa.edu.au
SUMMARY:Polling Booth Fundraiser
DESCRIPTION:
URL:https://richmondps.wa.edu.au/event/polling-booth-fundraiser/
CATEGORIES:P&C Events
END:VEVENT
BEGIN:VEVENT
DTSTART;VALUE=DATE:20250305
DTEND;VALUE=DATE:20250306
DTSTAMP:20260422T004751
CREATED:20250206T035948Z
LAST-MODIFIED:20250206T035948Z
UID:9524-1741132800-1741219199@richmondps.wa.edu.au
SUMMARY:Spinal Workshop Incursion TBC
DESCRIPTION:
URL:https://richmondps.wa.edu.au/event/spinal-workshop-incursion-tbc/
CATEGORIES:School Events
END:VEVENT
BEGIN:VEVENT
DTSTART;VALUE=DATE:20250305
DTEND;VALUE=DATE:20250306
DTSTAMP:20260422T004751
CREATED:20250206T035859Z
LAST-MODIFIED:20250206T035859Z
UID:9522-1741132800-1741219199@richmondps.wa.edu.au
SUMMARY:Edu Dance
DESCRIPTION:
URL:https://richmondps.wa.edu.au/event/edu-dance-23/
CATEGORIES:School Events
END:VEVENT
BEGIN:VEVENT
DTSTART;VALUE=DATE:20250304
DTEND;VALUE=DATE:20250305
DTSTAMP:20260422T004751
CREATED:20250206T035835Z
LAST-MODIFIED:20250206T035835Z
UID:9520-1741046400-1741132799@richmondps.wa.edu.au
SUMMARY:Edu Dance
DESCRIPTION:
URL:https://richmondps.wa.edu.au/event/edu-dance-22/
CATEGORIES:School Events
END:VEVENT
BEGIN:VEVENT
DTSTART;VALUE=DATE:20250303
DTEND;VALUE=DATE:20250304
DTSTAMP:20260422T004751
CREATED:20250206T035808Z
LAST-MODIFIED:20250206T035808Z
UID:9518-1740960000-1741046399@richmondps.wa.edu.au
SUMMARY:Public Holiday Labour Day
DESCRIPTION:
URL:https://richmondps.wa.edu.au/event/public-holiday-labour-day/
CATEGORIES:10Public Holidays
END:VEVENT
BEGIN:VEVENT
DTSTART;VALUE=DATE:20250228
DTEND;VALUE=DATE:20250301
DTSTAMP:20260422T004751
CREATED:20250206T035142Z
LAST-MODIFIED:20250206T035142Z
UID:9516-1740700800-1740787199@richmondps.wa.edu.au
SUMMARY:Assembly - Music
DESCRIPTION:
URL:https://richmondps.wa.edu.au/event/assembly-music-2/
CATEGORIES:0Assembly
END:VEVENT
BEGIN:VEVENT
DTSTART;VALUE=DATE:20250226
DTEND;VALUE=DATE:20250227
DTSTAMP:20260422T004751
CREATED:20250206T035105Z
LAST-MODIFIED:20250206T035105Z
UID:9514-1740528000-1740614399@richmondps.wa.edu.au
SUMMARY:Annie Musical at Kennedy Baptist College
DESCRIPTION:
URL:https://richmondps.wa.edu.au/event/annie-musical-at-kennedy-baptist-college/
CATEGORIES:School Events
END:VEVENT
BEGIN:VEVENT
DTSTART;VALUE=DATE:20250226
DTEND;VALUE=DATE:20250227
DTSTAMP:20260422T004751
CREATED:20250206T033816Z
LAST-MODIFIED:20250206T033816Z
UID:9508-1740528000-1740614399@richmondps.wa.edu.au
SUMMARY:Edu Dance
DESCRIPTION:
URL:https://richmondps.wa.edu.au/event/edu-dance-21/
CATEGORIES:School Events
END:VEVENT
BEGIN:VEVENT
DTSTART;VALUE=DATE:20250225
DTEND;VALUE=DATE:20250226
DTSTAMP:20260422T004751
CREATED:20250206T034635Z
LAST-MODIFIED:20250206T034635Z
UID:9512-1740441600-1740527999@richmondps.wa.edu.au
SUMMARY:Olympian Visitor Incursion
DESCRIPTION:
URL:https://richmondps.wa.edu.au/event/olympian-visitor-incursion/
CATEGORIES:School Events
END:VEVENT
BEGIN:VEVENT
DTSTART;VALUE=DATE:20250225
DTEND;VALUE=DATE:20250226
DTSTAMP:20260422T004751
CREATED:20250206T034515Z
LAST-MODIFIED:20250206T034515Z
UID:9510-1740441600-1740527999@richmondps.wa.edu.au
SUMMARY:School Board Meeting
DESCRIPTION:
URL:https://richmondps.wa.edu.au/event/school-board-meeting/
END:VEVENT
BEGIN:VEVENT
DTSTART;VALUE=DATE:20250225
DTEND;VALUE=DATE:20250226
DTSTAMP:20260422T004751
CREATED:20250206T033742Z
LAST-MODIFIED:20250206T033742Z
UID:9506-1740441600-1740527999@richmondps.wa.edu.au
SUMMARY:Edu Dance
DESCRIPTION:
URL:https://richmondps.wa.edu.au/event/edu-dance-20/
CATEGORIES:School Events
END:VEVENT
BEGIN:VEVENT
DTSTART;VALUE=DATE:20250221
DTEND;VALUE=DATE:20250222
DTSTAMP:20260422T004751
CREATED:20250206T032759Z
LAST-MODIFIED:20250206T032759Z
UID:9504-1740096000-1740182399@richmondps.wa.edu.au
SUMMARY:P & C Welcome Sundowner
DESCRIPTION:
URL:https://richmondps.wa.edu.au/event/p-c-welcome-sundowner/
CATEGORIES:P&C Events
END:VEVENT
BEGIN:VEVENT
DTSTART;VALUE=DATE:20250220
DTEND;VALUE=DATE:20250221
DTSTAMP:20260422T004751
CREATED:20250213T045953Z
LAST-MODIFIED:20250213T045953Z
UID:9615-1740009600-1740095999@richmondps.wa.edu.au
SUMMARY:Yr 5 / 6 Graffiti Workshop Incursion
DESCRIPTION:
URL:https://richmondps.wa.edu.au/event/yr-5-6-graffiti-workshop-incursion/
CATEGORIES:School Events
END:VEVENT
BEGIN:VEVENT
DTSTART;VALUE=DATE:20250219
DTEND;VALUE=DATE:20250220
DTSTAMP:20260422T004751
CREATED:20250213T050349Z
LAST-MODIFIED:20250213T050349Z
UID:9617-1739923200-1740009599@richmondps.wa.edu.au
SUMMARY:Young Leaders Day
DESCRIPTION:
URL:https://richmondps.wa.edu.au/event/young-leaders-day/
CATEGORIES:School Events
END:VEVENT
BEGIN:VEVENT
DTSTART;VALUE=DATE:20250219
DTEND;VALUE=DATE:20250220
DTSTAMP:20260422T004751
CREATED:20250206T032715Z
LAST-MODIFIED:20250206T032715Z
UID:9501-1739923200-1740009599@richmondps.wa.edu.au
SUMMARY:Yr 4 - 6 Swimming Trials Fremantle Leisure Centre
DESCRIPTION:
URL:https://richmondps.wa.edu.au/event/yr-4-6-swimming-trials-fremantle-leisure-centre/
CATEGORIES:School Sports
END:VEVENT
BEGIN:VEVENT
DTSTART;VALUE=DATE:20250219
DTEND;VALUE=DATE:20250220
DTSTAMP:20260422T004751
CREATED:20250206T030404Z
LAST-MODIFIED:20250206T031941Z
UID:9497-1739923200-1740009599@richmondps.wa.edu.au
SUMMARY:Edu-Dance
DESCRIPTION:
URL:https://richmondps.wa.edu.au/event/edu-dance-18/
CATEGORIES:School Events
END:VEVENT
BEGIN:VEVENT
DTSTART;TZID=Australia/Perth:20250218T193000
DTEND;TZID=Australia/Perth:20250218T213000
DTSTAMP:20260422T004751
CREATED:20250206T052448Z
LAST-MODIFIED:20250218T003412Z
UID:9597-1739907000-1739914200@richmondps.wa.edu.au
SUMMARY:P & C General Meeting
DESCRIPTION:
URL:https://richmondps.wa.edu.au/event/p-c-general-meeting/
LOCATION:School Library
CATEGORIES:P&C Events
END:VEVENT
BEGIN:VEVENT
DTSTART;VALUE=DATE:20250218
DTEND;VALUE=DATE:20250219
DTSTAMP:20260422T004751
CREATED:20250206T032037Z
LAST-MODIFIED:20250206T032037Z
UID:9499-1739836800-1739923199@richmondps.wa.edu.au
SUMMARY:Edu Dance
DESCRIPTION:
URL:https://richmondps.wa.edu.au/event/edu-dance-19/
CATEGORIES:School Events
END:VEVENT
END:VCALENDAR