BEGIN:VCALENDAR
VERSION:2.0
PRODID:-//Richmond Primary School - ECPv6.15.18//NONSGML v1.0//EN
CALSCALE:GREGORIAN
METHOD:PUBLISH
X-WR-CALNAME:Richmond Primary School
X-ORIGINAL-URL:https://richmondps.wa.edu.au
X-WR-CALDESC:Events for Richmond Primary School
REFRESH-INTERVAL;VALUE=DURATION:PT1H
X-Robots-Tag:noindex
X-PUBLISHED-TTL:PT1H
BEGIN:VTIMEZONE
TZID:Australia/Perth
BEGIN:STANDARD
TZOFFSETFROM:+0800
TZOFFSETTO:+0800
TZNAME:AWST
DTSTART:20240101T000000
END:STANDARD
END:VTIMEZONE
BEGIN:VEVENT
DTSTART;TZID=Australia/Perth:20250604T190000
DTEND;TZID=Australia/Perth:20250604T213000
DTSTAMP:20260420T054237
CREATED:20250514T033301Z
LAST-MODIFIED:20250514T033301Z
UID:9739-1749063600-1749072600@richmondps.wa.edu.au
SUMMARY:Parenting Workshop
DESCRIPTION:
URL:https://richmondps.wa.edu.au/event/parenting-workshop-3/
LOCATION:School Library
CATEGORIES:School Events
END:VEVENT
BEGIN:VEVENT
DTSTART;VALUE=DATE:20250606
DTEND;VALUE=DATE:20250607
DTSTAMP:20260420T054237
CREATED:20250326T023446Z
LAST-MODIFIED:20250527T022340Z
UID:9663-1749168000-1749254399@richmondps.wa.edu.au
SUMMARY:School Disco (Years 1-6)
DESCRIPTION:Year 1/2: 4.30-5.15 \nYear 3/4: 5.30-6.30 \nYear 5/6: 7.00-8.00
URL:https://richmondps.wa.edu.au/event/school-disco-years-1-6/
LOCATION:Undercover Area
CATEGORIES:P&C Events
END:VEVENT
BEGIN:VEVENT
DTSTART;VALUE=DATE:20250606
DTEND;VALUE=DATE:20250607
DTSTAMP:20260420T054237
CREATED:20250327T065017Z
LAST-MODIFIED:20250327T065017Z
UID:9688-1749168000-1749254399@richmondps.wa.edu.au
SUMMARY:Assembly Rooms 2&3
DESCRIPTION:
URL:https://richmondps.wa.edu.au/event/assembly-rooms-23/
CATEGORIES:0Assembly,School Events
END:VEVENT
BEGIN:VEVENT
DTSTART;VALUE=DATE:20250610
DTEND;VALUE=DATE:20250611
DTSTAMP:20260420T054237
CREATED:20250527T021536Z
LAST-MODIFIED:20250530T054033Z
UID:9781-1749513600-1749599999@richmondps.wa.edu.au
SUMMARY:MDISSA Winter Carnival
DESCRIPTION:Year 5/6 Winter Carnival for Netball\, AFL and Soccer.
URL:https://richmondps.wa.edu.au/event/mdissa-winter-carnival/
CATEGORIES:School Sports
END:VEVENT
BEGIN:VEVENT
DTSTART;TZID=Australia/Perth:20250611T030000
DTEND;TZID=Australia/Perth:20250612T170000
DTSTAMP:20260420T054237
CREATED:20250327T071321Z
LAST-MODIFIED:20250605T022940Z
UID:9694-1749610800-1749747600@richmondps.wa.edu.au
SUMMARY:Art Room Open Day
DESCRIPTION:
URL:https://richmondps.wa.edu.au/event/art-room-open-day/
CATEGORIES:School Events
END:VEVENT
BEGIN:VEVENT
DTSTART;TZID=Australia/Perth:20250611T190000
DTEND;TZID=Australia/Perth:20250611T213000
DTSTAMP:20260420T054237
CREATED:20250514T033417Z
LAST-MODIFIED:20250514T033417Z
UID:9741-1749668400-1749677400@richmondps.wa.edu.au
SUMMARY:Parenting Workshop
DESCRIPTION:
URL:https://richmondps.wa.edu.au/event/parenting-workshop-4/
LOCATION:School Library
CATEGORIES:School Events
END:VEVENT
BEGIN:VEVENT
DTSTART;VALUE=DATE:20250620
DTEND;VALUE=DATE:20250621
DTSTAMP:20260420T054237
CREATED:20250327T071210Z
LAST-MODIFIED:20250327T071210Z
UID:9692-1750377600-1750463999@richmondps.wa.edu.au
SUMMARY:IMSS Assembly
DESCRIPTION:
URL:https://richmondps.wa.edu.au/event/imss-assembly/
CATEGORIES:0Assembly
END:VEVENT
BEGIN:VEVENT
DTSTART;VALUE=DATE:20250625
DTEND;VALUE=DATE:20250628
DTSTAMP:20260420T054237
CREATED:20250623T061218Z
LAST-MODIFIED:20250623T061218Z
UID:9904-1750809600-1751068799@richmondps.wa.edu.au
SUMMARY:Camp Yr 6
DESCRIPTION:
URL:https://richmondps.wa.edu.au/event/camp-yr-6/
CATEGORIES:School Events
END:VEVENT
BEGIN:VEVENT
DTSTART;TZID=Australia/Perth:20250626T190000
DTEND;TZID=Australia/Perth:20250626T200000
DTSTAMP:20260420T054237
CREATED:20250623T060009Z
LAST-MODIFIED:20250623T060009Z
UID:9897-1750964400-1750968000@richmondps.wa.edu.au
SUMMARY:Free Triple P Online Seminar
DESCRIPTION:Please see our Newsletter Week 8 (News & Events) for more information
URL:https://richmondps.wa.edu.au/event/free-triple-p-online-seminar/
END:VEVENT
BEGIN:VEVENT
DTSTART;VALUE=DATE:20250701
DTEND;VALUE=DATE:20250702
DTSTAMP:20260420T054237
CREATED:20250623T061122Z
LAST-MODIFIED:20250623T061122Z
UID:9902-1751328000-1751414399@richmondps.wa.edu.au
SUMMARY:Kings Park Excursion Yr 4
DESCRIPTION:
URL:https://richmondps.wa.edu.au/event/kings-park-excursion-yr-4/
CATEGORIES:School Events
END:VEVENT
BEGIN:VEVENT
DTSTART;TZID=Australia/Perth:20250702T130000
DTEND;TZID=Australia/Perth:20250702T133000
DTSTAMP:20260420T054237
CREATED:20250623T061744Z
LAST-MODIFIED:20250623T061744Z
UID:9906-1751461200-1751463000@richmondps.wa.edu.au
SUMMARY:Garden Club
DESCRIPTION:Lunchtime near the gazebo
URL:https://richmondps.wa.edu.au/event/garden-club/
END:VEVENT
BEGIN:VEVENT
DTSTART;VALUE=DATE:20250704
DTEND;VALUE=DATE:20250705
DTSTAMP:20260420T054237
CREATED:20250327T073204Z
LAST-MODIFIED:20250327T073204Z
UID:9697-1751587200-1751673599@richmondps.wa.edu.au
SUMMARY:Last day of Term 2
DESCRIPTION:
URL:https://richmondps.wa.edu.au/event/last-day-of-term-2-2/
CATEGORIES:Term Dates
END:VEVENT
BEGIN:VEVENT
DTSTART;TZID=Australia/Perth:20250704T090000
DTEND;TZID=Australia/Perth:20250704T103000
DTSTAMP:20260420T054237
CREATED:20250514T035321Z
LAST-MODIFIED:20250514T035321Z
UID:9745-1751619600-1751625000@richmondps.wa.edu.au
SUMMARY:Richmond's Got Talent
DESCRIPTION:
URL:https://richmondps.wa.edu.au/event/richmonds-got-talent/
CATEGORIES:0Assembly,School Events
END:VEVENT
BEGIN:VEVENT
DTSTART;TZID=Australia/Perth:20250704T130000
DTEND;TZID=Australia/Perth:20250704T150000
DTSTAMP:20260420T054237
CREATED:20250623T033700Z
LAST-MODIFIED:20250623T060935Z
UID:9864-1751634000-1751641200@richmondps.wa.edu.au
SUMMARY:Winter Sports Yr 5 & Yr 6
DESCRIPTION:Selected students AFL\, Soccer & Netball
URL:https://richmondps.wa.edu.au/event/winter-sports-yr-5-yr-6/
CATEGORIES:School Sports
END:VEVENT
BEGIN:VEVENT
DTSTART;VALUE=DATE:20250721
DTEND;VALUE=DATE:20250722
DTSTAMP:20260420T054237
CREATED:20250403T071316Z
LAST-MODIFIED:20250403T071316Z
UID:9700-1753056000-1753142399@richmondps.wa.edu.au
SUMMARY:School Development Day (No Students)
DESCRIPTION:
URL:https://richmondps.wa.edu.au/event/school-development-day-no-students-2/
CATEGORIES:School Events,Term Dates
END:VEVENT
BEGIN:VEVENT
DTSTART;VALUE=DATE:20250722
DTEND;VALUE=DATE:20250723
DTSTAMP:20260420T054237
CREATED:20250403T071737Z
LAST-MODIFIED:20250403T071737Z
UID:9704-1753142400-1753228799@richmondps.wa.edu.au
SUMMARY:Students Return for Term 3
DESCRIPTION:
URL:https://richmondps.wa.edu.au/event/students-return-for-term-3/
CATEGORIES:School Events,Term Dates
END:VEVENT
BEGIN:VEVENT
DTSTART;TZID=Australia/Perth:20250729T190000
DTEND;TZID=Australia/Perth:20250729T210000
DTSTAMP:20260420T054237
CREATED:20250703T045318Z
LAST-MODIFIED:20250703T045318Z
UID:9914-1753815600-1753822800@richmondps.wa.edu.au
SUMMARY:Board Meeting
DESCRIPTION:Board Meeting 7pm
URL:https://richmondps.wa.edu.au/event/board-meeting/
LOCATION:School Library
CATEGORIES:School Events
END:VEVENT
BEGIN:VEVENT
DTSTART;TZID=Australia/Perth:20250803T140000
DTEND;TZID=Australia/Perth:20250803T160000
DTSTAMP:20260420T054237
CREATED:20250731T061429Z
LAST-MODIFIED:20250731T061429Z
UID:9924-1754229600-1754236800@richmondps.wa.edu.au
SUMMARY:Breast Cancer WA Fundraiser
DESCRIPTION:This event will be held in the undercover area.
URL:https://richmondps.wa.edu.au/event/breast-cancer-wa-fundraiser/
END:VEVENT
BEGIN:VEVENT
DTSTART;TZID=Australia/Perth:20250805T080000
DTEND;TZID=Australia/Perth:20250805T170000
DTSTAMP:20260420T054237
CREATED:20250514T024453Z
LAST-MODIFIED:20250514T025537Z
UID:9730-1754380800-1754413200@richmondps.wa.edu.au
SUMMARY:Interschool Cross Country (MDISSA)
DESCRIPTION:
URL:https://richmondps.wa.edu.au/event/interschool-cross-country/
CATEGORIES:School Events,School Sports
END:VEVENT
BEGIN:VEVENT
DTSTART;TZID=Australia/Perth:20250805T190000
DTEND;TZID=Australia/Perth:20250805T210000
DTSTAMP:20260420T054237
CREATED:20250625T033552Z
LAST-MODIFIED:20250731T062522Z
UID:9908-1754420400-1754427600@richmondps.wa.edu.au
SUMMARY:P & C General Meeting
DESCRIPTION:The P & C Meeting will be held in the library.
URL:https://richmondps.wa.edu.au/event/p-c-meeting/
CATEGORIES:P&C Events
END:VEVENT
BEGIN:VEVENT
DTSTART;VALUE=DATE:20250806
DTEND;VALUE=DATE:20250807
DTSTAMP:20260420T054237
CREATED:20250731T061755Z
LAST-MODIFIED:20250731T061755Z
UID:9926-1754438400-1754524799@richmondps.wa.edu.au
SUMMARY:Lunchtime Garden Club
DESCRIPTION:Near the rose garden.
URL:https://richmondps.wa.edu.au/event/lunchtime-garden-club/
END:VEVENT
BEGIN:VEVENT
DTSTART;TZID=Australia/Perth:20250808T083000
DTEND;TZID=Australia/Perth:20250808T150000
DTSTAMP:20260420T054237
CREATED:20250731T062228Z
LAST-MODIFIED:20250731T062228Z
UID:9928-1754641800-1754665200@richmondps.wa.edu.au
SUMMARY:Southern Region Open Football (Soccer) Championship Yr 5 & 6
DESCRIPTION:
URL:https://richmondps.wa.edu.au/event/southern-region-open-football-soccer-championship-yr-5-6/
CATEGORIES:School Sports
END:VEVENT
BEGIN:VEVENT
DTSTART;VALUE=DATE:20250811
DTEND;VALUE=DATE:20250816
DTSTAMP:20260420T054237
CREATED:20250731T064158Z
LAST-MODIFIED:20250731T064158Z
UID:9933-1754870400-1755302399@richmondps.wa.edu.au
SUMMARY:STEAM Week
DESCRIPTION:
URL:https://richmondps.wa.edu.au/event/steam-week/
CATEGORIES:School Events
END:VEVENT
BEGIN:VEVENT
DTSTART;TZID=Australia/Perth:20250815T090000
DTEND;TZID=Australia/Perth:20250815T094500
DTSTAMP:20260420T054237
CREATED:20250623T034447Z
LAST-MODIFIED:20250623T052919Z
UID:9868-1755248400-1755251100@richmondps.wa.edu.au
SUMMARY:Assembly Rooms 5 & 8
DESCRIPTION:
URL:https://richmondps.wa.edu.au/event/assembly-rooms-5-8/
CATEGORIES:0Assembly
END:VEVENT
BEGIN:VEVENT
DTSTART;VALUE=DATE:20250818
DTEND;VALUE=DATE:20250823
DTSTAMP:20260420T054237
CREATED:20250731T064425Z
LAST-MODIFIED:20250731T064425Z
UID:9935-1755475200-1755907199@richmondps.wa.edu.au
SUMMARY:Book Week
DESCRIPTION:
URL:https://richmondps.wa.edu.au/event/book-week/
CATEGORIES:School Events
END:VEVENT
BEGIN:VEVENT
DTSTART;TZID=Australia/Perth:20250819T080000
DTEND;TZID=Australia/Perth:20250819T083500
DTSTAMP:20260420T054237
CREATED:20250818T075845Z
LAST-MODIFIED:20250818T075845Z
UID:9978-1755590400-1755592500@richmondps.wa.edu.au
SUMMARY:Student Parliament Round Table Year 6
DESCRIPTION:Student Parliament Round Table Extension Year 6 selected student parliament in Room 14
URL:https://richmondps.wa.edu.au/event/student-parliament-round-table-year-6/
LOCATION:Room 14
CATEGORIES:Student Event
END:VEVENT
BEGIN:VEVENT
DTSTART;TZID=Australia/Perth:20250819T090000
DTEND;TZID=Australia/Perth:20250819T093000
DTSTAMP:20260420T054237
CREATED:20250623T034859Z
LAST-MODIFIED:20250623T045410Z
UID:9870-1755594000-1755595800@richmondps.wa.edu.au
SUMMARY:Parent Representative Meeting
DESCRIPTION:
URL:https://richmondps.wa.edu.au/event/parent-representative-meeting/
CATEGORIES:School Events
END:VEVENT
BEGIN:VEVENT
DTSTART;VALUE=DATE:20250820
DTEND;VALUE=DATE:20250821
DTSTAMP:20260420T054237
CREATED:20250731T065009Z
LAST-MODIFIED:20250731T065009Z
UID:9939-1755648000-1755734399@richmondps.wa.edu.au
SUMMARY:Lunchtime Garden Club
DESCRIPTION:Near the rose garden.
URL:https://richmondps.wa.edu.au/event/lunchtime-garden-club-2/
END:VEVENT
BEGIN:VEVENT
DTSTART;TZID=Australia/Perth:20250820T080000
DTEND;TZID=Australia/Perth:20250820T084000
DTSTAMP:20260420T054237
CREATED:20250820T040504Z
LAST-MODIFIED:20250820T040504Z
UID:10009-1755676800-1755679200@richmondps.wa.edu.au
SUMMARY:Choir
DESCRIPTION:Choir Years 4 – 6 in Music Room. Auditions Friday lunchtimes 1:10 – 1:30
URL:https://richmondps.wa.edu.au/event/choir-2/
LOCATION:Music Room
CATEGORIES:Student Event
END:VEVENT
BEGIN:VEVENT
DTSTART;TZID=Australia/Perth:20250820T090000
DTEND;TZID=Australia/Perth:20250820T100000
DTSTAMP:20260420T054237
CREATED:20250731T064617Z
LAST-MODIFIED:20250731T064617Z
UID:9937-1755680400-1755684000@richmondps.wa.edu.au
SUMMARY:Book Week Parade
DESCRIPTION:
URL:https://richmondps.wa.edu.au/event/book-week-parade-3/
CATEGORIES:School Events
END:VEVENT
END:VCALENDAR