BEGIN:VCALENDAR
VERSION:2.0
PRODID:-//Richmond Primary School - ECPv6.15.18//NONSGML v1.0//EN
CALSCALE:GREGORIAN
METHOD:PUBLISH
X-ORIGINAL-URL:https://richmondps.wa.edu.au
X-WR-CALDESC:Events for Richmond Primary School
REFRESH-INTERVAL;VALUE=DURATION:PT1H
X-Robots-Tag:noindex
X-PUBLISHED-TTL:PT1H
BEGIN:VTIMEZONE
TZID:Australia/Perth
BEGIN:STANDARD
TZOFFSETFROM:+0800
TZOFFSETTO:+0800
TZNAME:AWST
DTSTART:20240101T000000
END:STANDARD
END:VTIMEZONE
BEGIN:VEVENT
DTSTART;TZID=Australia/Perth:20250923T081000
DTEND;TZID=Australia/Perth:20250923T083000
DTSTAMP:20260422T062838
CREATED:20250820T035113Z
LAST-MODIFIED:20250820T035155Z
UID:10001-1758615000-1758616200@richmondps.wa.edu.au
SUMMARY:Marathon Club
DESCRIPTION:Marathon Club for Years 3 – 6 on the oval. Sign up through Connect.
URL:https://richmondps.wa.edu.au/event/marathon-club-5/
LOCATION:Oval
CATEGORIES:Student Event
END:VEVENT
BEGIN:VEVENT
DTSTART;TZID=Australia/Perth:20250925T081000
DTEND;TZID=Australia/Perth:20250925T083000
DTSTAMP:20260422T062838
CREATED:20250820T054556Z
LAST-MODIFIED:20250820T054556Z
UID:10041-1758787800-1758789000@richmondps.wa.edu.au
SUMMARY:Just for Run Club
DESCRIPTION:Just for Run Club focus on fun and fitness on the Oval. Sign up on Connect.
URL:https://richmondps.wa.edu.au/event/just-for-run-club-5/
LOCATION:Oval
CATEGORIES:Student Event
END:VEVENT
BEGIN:VEVENT
DTSTART;VALUE=DATE:20250926
DTEND;VALUE=DATE:20250927
DTSTAMP:20260422T062838
CREATED:20250403T072322Z
LAST-MODIFIED:20250403T072322Z
UID:9706-1758844800-1758931199@richmondps.wa.edu.au
SUMMARY:Last Day of Term 3
DESCRIPTION:
URL:https://richmondps.wa.edu.au/event/last-day-of-term-3-2/
CATEGORIES:School Events,Term Dates
END:VEVENT
BEGIN:VEVENT
DTSTART;VALUE=DATE:20250926
DTEND;VALUE=DATE:20250927
DTSTAMP:20260422T062838
CREATED:20250623T052436Z
LAST-MODIFIED:20250623T053038Z
UID:9892-1758844800-1758931199@richmondps.wa.edu.au
SUMMARY:Student Council Fundraiser - AFL
DESCRIPTION:Come dressed in your favourite team colours
URL:https://richmondps.wa.edu.au/event/student-council-fundraiser-afl/
CATEGORIES:School Events
END:VEVENT
BEGIN:VEVENT
DTSTART;TZID=Australia/Perth:20250926T090000
DTEND;TZID=Australia/Perth:20250926T094500
DTSTAMP:20260422T062838
CREATED:20250623T052304Z
LAST-MODIFIED:20250623T052714Z
UID:9890-1758877200-1758879900@richmondps.wa.edu.au
SUMMARY:Assembly Rooms 4 & 11
DESCRIPTION:
URL:https://richmondps.wa.edu.au/event/assembly-rooms-4-11/
CATEGORIES:0Assembly
END:VEVENT
BEGIN:VEVENT
DTSTART;VALUE=DATE:20251013
DTEND;VALUE=DATE:20251014
DTSTAMP:20260422T062838
CREATED:20250403T072431Z
LAST-MODIFIED:20250403T072431Z
UID:9708-1760313600-1760399999@richmondps.wa.edu.au
SUMMARY:Students Return for Term 4
DESCRIPTION:
URL:https://richmondps.wa.edu.au/event/students-return-for-term-4/
CATEGORIES:School Events,Term Dates
END:VEVENT
BEGIN:VEVENT
DTSTART;TZID=Australia/Perth:20251013T080000
DTEND;TZID=Australia/Perth:20251013T084000
DTSTAMP:20260422T062838
CREATED:20251001T065119Z
LAST-MODIFIED:20251001T065119Z
UID:10201-1760342400-1760344800@richmondps.wa.edu.au
SUMMARY:Recorder Ensemble
DESCRIPTION:
URL:https://richmondps.wa.edu.au/event/recorder-ensemble-3/
CATEGORIES:Music
END:VEVENT
BEGIN:VEVENT
DTSTART;TZID=Australia/Perth:20251013T083000
DTEND;TZID=Australia/Perth:20251015T084000
DTSTAMP:20260422T062838
CREATED:20251003T034929Z
LAST-MODIFIED:20251003T035211Z
UID:10322-1760344200-1760517600@richmondps.wa.edu.au
SUMMARY:Library Open
DESCRIPTION:Families welcome 8.30 – 8.40am
URL:https://richmondps.wa.edu.au/event/library-open-5/
END:VEVENT
BEGIN:VEVENT
DTSTART;VALUE=DATE:20251014
DTEND;VALUE=DATE:20251015
DTSTAMP:20260422T062838
CREATED:20251001T061157Z
LAST-MODIFIED:20251001T061157Z
UID:10147-1760400000-1760486399@richmondps.wa.edu.au
SUMMARY:Kindy Music Circle KA KC
DESCRIPTION:
URL:https://richmondps.wa.edu.au/event/kindy-music-circle-ka-kc-8/
CATEGORIES:Incursion
END:VEVENT
BEGIN:VEVENT
DTSTART;TZID=Australia/Perth:20251014T080000
DTEND;TZID=Australia/Perth:20251014T083500
DTSTAMP:20260422T062838
CREATED:20251001T072028Z
LAST-MODIFIED:20251001T072028Z
UID:10260-1760428800-1760430900@richmondps.wa.edu.au
SUMMARY:Student Parliament Roundtable Year 6
DESCRIPTION:Student Parliament Roundtable Year 6 in Room 14
URL:https://richmondps.wa.edu.au/event/student-parliament-roundtable-year-6/
CATEGORIES:Student Event
END:VEVENT
BEGIN:VEVENT
DTSTART;TZID=Australia/Perth:20251014T081000
DTEND;TZID=Australia/Perth:20251014T083000
DTSTAMP:20260422T062838
CREATED:20251003T032346Z
LAST-MODIFIED:20251003T032346Z
UID:10282-1760429400-1760430600@richmondps.wa.edu.au
SUMMARY:Marathon Club
DESCRIPTION:Marathon Club for Years 3 – 6 on the oval. Sign up through Connect.
URL:https://richmondps.wa.edu.au/event/marathon-club-6/
CATEGORIES:School Sports
END:VEVENT
BEGIN:VEVENT
DTSTART;TZID=Australia/Perth:20251015T080000
DTEND;TZID=Australia/Perth:20251015T084000
DTSTAMP:20260422T062838
CREATED:20251001T070330Z
LAST-MODIFIED:20251001T070330Z
UID:10223-1760515200-1760517600@richmondps.wa.edu.au
SUMMARY:Choir
DESCRIPTION:
URL:https://richmondps.wa.edu.au/event/choir-5/
CATEGORIES:Music
END:VEVENT
BEGIN:VEVENT
DTSTART;VALUE=DATE:20251016
DTEND;VALUE=DATE:20251017
DTSTAMP:20260422T062838
CREATED:20251001T063135Z
LAST-MODIFIED:20251001T063135Z
UID:10172-1760572800-1760659199@richmondps.wa.edu.au
SUMMARY:Bike Ed Yr 4
DESCRIPTION:
URL:https://richmondps.wa.edu.au/event/bike-ed-yr-4/
CATEGORIES:Incursion
END:VEVENT
BEGIN:VEVENT
DTSTART;TZID=Australia/Perth:20251016T081000
DTEND;TZID=Australia/Perth:20251016T083000
DTSTAMP:20260422T062838
CREATED:20251003T033349Z
LAST-MODIFIED:20251003T033349Z
UID:10302-1760602200-1760603400@richmondps.wa.edu.au
SUMMARY:Just for Run
DESCRIPTION:Just for Run Club focuses on fun and fitness on the oval. Sign up though Connect.
URL:https://richmondps.wa.edu.au/event/just-for-run-2/
CATEGORIES:School Sports
END:VEVENT
BEGIN:VEVENT
DTSTART;VALUE=DATE:20251017
DTEND;VALUE=DATE:20251018
DTSTAMP:20260422T062838
CREATED:20251001T063729Z
LAST-MODIFIED:20251001T063729Z
UID:10184-1760659200-1760745599@richmondps.wa.edu.au
SUMMARY:Kindy Music Circle KB
DESCRIPTION:
URL:https://richmondps.wa.edu.au/event/kindy-music-circle-kb-8/
CATEGORIES:Incursion
END:VEVENT
BEGIN:VEVENT
DTSTART;TZID=Australia/Perth:20251017T080000
DTEND;TZID=Australia/Perth:20251017T084000
DTSTAMP:20260422T062838
CREATED:20251001T071159Z
LAST-MODIFIED:20251001T071159Z
UID:10242-1760688000-1760690400@richmondps.wa.edu.au
SUMMARY:Recorder L1 Assistance
DESCRIPTION:
URL:https://richmondps.wa.edu.au/event/recorder-l1-assistance/
CATEGORIES:Music
END:VEVENT
BEGIN:VEVENT
DTSTART;TZID=Australia/Perth:20251018T183000
DTEND;TZID=Australia/Perth:20251018T230000
DTSTAMP:20260422T062838
CREATED:20250626T051544Z
LAST-MODIFIED:20250626T051544Z
UID:9912-1760812200-1760828400@richmondps.wa.edu.au
SUMMARY:P & C Quiz Night
DESCRIPTION:Save the Date! More information to come.
URL:https://richmondps.wa.edu.au/event/p-c-quiz-night/
CATEGORIES:P&C Events
END:VEVENT
BEGIN:VEVENT
DTSTART;TZID=Australia/Perth:20251020T080000
DTEND;TZID=Australia/Perth:20251020T084000
DTSTAMP:20260422T062838
CREATED:20251001T065152Z
LAST-MODIFIED:20251001T065708Z
UID:10203-1760947200-1760949600@richmondps.wa.edu.au
SUMMARY:Recorder Ensemble
DESCRIPTION:
URL:https://richmondps.wa.edu.au/event/recorder-ensemble-6/
CATEGORIES:Music
END:VEVENT
BEGIN:VEVENT
DTSTART;TZID=Australia/Perth:20251020T083000
DTEND;TZID=Australia/Perth:20251022T084000
DTSTAMP:20260422T062838
CREATED:20251003T035021Z
LAST-MODIFIED:20251003T035021Z
UID:10324-1760949000-1761122400@richmondps.wa.edu.au
SUMMARY:Library Open
DESCRIPTION:Families welcome 8.30 – 8.40am
URL:https://richmondps.wa.edu.au/event/library-open-6/
END:VEVENT
BEGIN:VEVENT
DTSTART;VALUE=DATE:20251021
DTEND;VALUE=DATE:20251022
DTSTAMP:20260422T062838
CREATED:20251001T061236Z
LAST-MODIFIED:20251001T061236Z
UID:10150-1761004800-1761091199@richmondps.wa.edu.au
SUMMARY:Kindy Music Circle KA KC
DESCRIPTION:
URL:https://richmondps.wa.edu.au/event/kindy-music-circle-ka-kc-9/
CATEGORIES:Incursion
END:VEVENT
BEGIN:VEVENT
DTSTART;TZID=Australia/Perth:20251021T080000
DTEND;TZID=Australia/Perth:20251021T083500
DTSTAMP:20260422T062838
CREATED:20251001T072107Z
LAST-MODIFIED:20251001T072107Z
UID:10262-1761033600-1761035700@richmondps.wa.edu.au
SUMMARY:Student Parliament Roundtable Year 6
DESCRIPTION:Student Parliament Roundtable Year 6 in Room 14
URL:https://richmondps.wa.edu.au/event/student-parliament-roundtable-year-6-2/
CATEGORIES:Student Event
END:VEVENT
BEGIN:VEVENT
DTSTART;TZID=Australia/Perth:20251021T081000
DTEND;TZID=Australia/Perth:20251021T083000
DTSTAMP:20260422T062838
CREATED:20251003T032428Z
LAST-MODIFIED:20251003T032428Z
UID:10284-1761034200-1761035400@richmondps.wa.edu.au
SUMMARY:Marathon Club
DESCRIPTION:Marathon Club for Years 3 – 6 on the oval. Sign up through Connect.
URL:https://richmondps.wa.edu.au/event/marathon-club-7/
CATEGORIES:School Sports
END:VEVENT
BEGIN:VEVENT
DTSTART;TZID=Australia/Perth:20251021T190000
DTEND;TZID=Australia/Perth:20251021T210000
DTSTAMP:20260422T062838
CREATED:20250626T035730Z
LAST-MODIFIED:20250626T035730Z
UID:9910-1761073200-1761080400@richmondps.wa.edu.au
SUMMARY:P & C General Meeting
DESCRIPTION:The P & C General Meeting will be held in the library 7 – 9pm
URL:https://richmondps.wa.edu.au/event/p-c-general-meeting-2/
CATEGORIES:P&C Events
END:VEVENT
BEGIN:VEVENT
DTSTART;TZID=Australia/Perth:20251022T080000
DTEND;TZID=Australia/Perth:20251022T084000
DTSTAMP:20260422T062838
CREATED:20251001T070354Z
LAST-MODIFIED:20251001T070354Z
UID:10225-1761120000-1761122400@richmondps.wa.edu.au
SUMMARY:Choir
DESCRIPTION:
URL:https://richmondps.wa.edu.au/event/choir-6/
CATEGORIES:Music
END:VEVENT
BEGIN:VEVENT
DTSTART;VALUE=DATE:20251023
DTEND;VALUE=DATE:20251024
DTSTAMP:20260422T062838
CREATED:20251003T031511Z
LAST-MODIFIED:20251003T031511Z
UID:10280-1761177600-1761263999@richmondps.wa.edu.au
SUMMARY:Bike Ed Yr 4
DESCRIPTION:
URL:https://richmondps.wa.edu.au/event/bike-ed-yr-4-6/
CATEGORIES:Incursion
END:VEVENT
BEGIN:VEVENT
DTSTART;TZID=Australia/Perth:20251023T081000
DTEND;TZID=Australia/Perth:20251023T083000
DTSTAMP:20260422T062838
CREATED:20251003T033419Z
LAST-MODIFIED:20251003T033419Z
UID:10304-1761207000-1761208200@richmondps.wa.edu.au
SUMMARY:Just for Run
DESCRIPTION:Just for Run Club focuses on fun and fitness on the oval. Sign up though Connect.
URL:https://richmondps.wa.edu.au/event/just-for-run-3/
CATEGORIES:School Sports
END:VEVENT
BEGIN:VEVENT
DTSTART;VALUE=DATE:20251024
DTEND;VALUE=DATE:20251025
DTSTAMP:20260422T062838
CREATED:20251001T063748Z
LAST-MODIFIED:20251001T063748Z
UID:10186-1761264000-1761350399@richmondps.wa.edu.au
SUMMARY:Kindy Music Circle KB
DESCRIPTION:
URL:https://richmondps.wa.edu.au/event/kindy-music-circle-kb-9/
CATEGORIES:Incursion
END:VEVENT
BEGIN:VEVENT
DTSTART;TZID=Australia/Perth:20251024T080000
DTEND;TZID=Australia/Perth:20251024T084000
DTSTAMP:20260422T062838
CREATED:20251001T071225Z
LAST-MODIFIED:20251001T071225Z
UID:10244-1761292800-1761295200@richmondps.wa.edu.au
SUMMARY:Recorder L1 Assistance
DESCRIPTION:
URL:https://richmondps.wa.edu.au/event/recorder-l1-assistance-2/
CATEGORIES:Music
END:VEVENT
BEGIN:VEVENT
DTSTART;TZID=Australia/Perth:20251024T090000
DTEND;TZID=Australia/Perth:20251024T094500
DTSTAMP:20260422T062838
CREATED:20250820T072858Z
LAST-MODIFIED:20250820T073059Z
UID:10073-1761296400-1761299100@richmondps.wa.edu.au
SUMMARY:Assembly Rooms 7 & 16
DESCRIPTION:
URL:https://richmondps.wa.edu.au/event/assembly-rooms-7-16/
CATEGORIES:0Assembly
END:VEVENT
BEGIN:VEVENT
DTSTART;TZID=Australia/Perth:20251027T080000
DTEND;TZID=Australia/Perth:20251027T084000
DTSTAMP:20260422T062838
CREATED:20251001T065213Z
LAST-MODIFIED:20251001T065604Z
UID:10205-1761552000-1761554400@richmondps.wa.edu.au
SUMMARY:Recorder Ensemble
DESCRIPTION:
URL:https://richmondps.wa.edu.au/event/recorder-ensemble-7/
CATEGORIES:Music
END:VEVENT
END:VCALENDAR