BEGIN:VCALENDAR
VERSION:2.0
PRODID:-//Richmond Primary School - ECPv6.15.18//NONSGML v1.0//EN
CALSCALE:GREGORIAN
METHOD:PUBLISH
X-ORIGINAL-URL:https://richmondps.wa.edu.au
X-WR-CALDESC:Events for Richmond Primary School
REFRESH-INTERVAL;VALUE=DURATION:PT1H
X-Robots-Tag:noindex
X-PUBLISHED-TTL:PT1H
BEGIN:VTIMEZONE
TZID:Australia/Perth
BEGIN:STANDARD
TZOFFSETFROM:+0800
TZOFFSETTO:+0800
TZNAME:AWST
DTSTART:20250101T000000
END:STANDARD
END:VTIMEZONE
BEGIN:VEVENT
DTSTART;VALUE=DATE:20260424
DTEND;VALUE=DATE:20260425
DTSTAMP:20260424T201253
CREATED:20260211T010441Z
LAST-MODIFIED:20260211T010441Z
UID:10693-1776988800-1777075199@richmondps.wa.edu.au
SUMMARY:ANZAC Day Service
DESCRIPTION:
URL:https://richmondps.wa.edu.au/event/anzac-day-service/
CATEGORIES:School Events
END:VEVENT
BEGIN:VEVENT
DTSTART;VALUE=DATE:20260427
DTEND;VALUE=DATE:20260428
DTSTAMP:20260424T201253
CREATED:20260212T020234Z
LAST-MODIFIED:20260212T020234Z
UID:10729-1777248000-1777334399@richmondps.wa.edu.au
SUMMARY:Public Holiday Anzac Day
DESCRIPTION:
URL:https://richmondps.wa.edu.au/event/public-holiday-anzac-day/
CATEGORIES:10Public Holidays
END:VEVENT
BEGIN:VEVENT
DTSTART;TZID=Australia/Perth:20260428T190000
DTEND;TZID=Australia/Perth:20260428T200000
DTSTAMP:20260424T201253
CREATED:20260309T014921Z
LAST-MODIFIED:20260309T014921Z
UID:10877-1777402800-1777406400@richmondps.wa.edu.au
SUMMARY:P&C General Meeting
DESCRIPTION:In the School Library 7pm
URL:https://richmondps.wa.edu.au/event/pc-general-meeting/
CATEGORIES:P&C Events
END:VEVENT
END:VCALENDAR